BEGIN:VCALENDAR
VERSION:2.0
PRODID:-//VC Magazin - ECPv6.15.15//NONSGML v1.0//EN
CALSCALE:GREGORIAN
METHOD:PUBLISH
X-ORIGINAL-URL:https://www.vc-magazin.de
X-WR-CALDESC:Veranstaltungen für VC Magazin
REFRESH-INTERVAL;VALUE=DURATION:PT1H
X-Robots-Tag:noindex
X-PUBLISHED-TTL:PT1H
BEGIN:VTIMEZONE
TZID:Europe/Berlin
BEGIN:DAYLIGHT
TZOFFSETFROM:+0100
TZOFFSETTO:+0200
TZNAME:CEST
DTSTART:20210328T010000
END:DAYLIGHT
BEGIN:STANDARD
TZOFFSETFROM:+0200
TZOFFSETTO:+0100
TZNAME:CET
DTSTART:20211031T010000
END:STANDARD
BEGIN:DAYLIGHT
TZOFFSETFROM:+0100
TZOFFSETTO:+0200
TZNAME:CEST
DTSTART:20220327T010000
END:DAYLIGHT
BEGIN:STANDARD
TZOFFSETFROM:+0200
TZOFFSETTO:+0100
TZNAME:CET
DTSTART:20221030T010000
END:STANDARD
BEGIN:DAYLIGHT
TZOFFSETFROM:+0100
TZOFFSETTO:+0200
TZNAME:CEST
DTSTART:20230326T010000
END:DAYLIGHT
BEGIN:STANDARD
TZOFFSETFROM:+0200
TZOFFSETTO:+0100
TZNAME:CET
DTSTART:20231029T010000
END:STANDARD
END:VTIMEZONE
BEGIN:VEVENT
DTSTART;TZID=Europe/Berlin:20221014T120000
DTEND;TZID=Europe/Berlin:20221015T233000
DTSTAMP:20260421T154348
CREATED:20220916T111615Z
LAST-MODIFIED:20220916T111615Z
UID:69357-1665748800-1665876600@www.vc-magazin.de
SUMMARY:Rejuvenation Startup Summit 2022
DESCRIPTION:Der Rejuvenation Startup Summit 2022 am 14.-15. Oktober in Berlin\, der von der Forever Healthy Foundation veranstaltet wird\, zielt darauf ab\, die Entwicklung der Rejuvenation-Biotech-Industrie zu beschleunigen. \nRejuvenation/Longevity Biotech ist ein neuer\, aufstrebender Bereich der Medizin. Sie zielt auf die Vorbeugung und Umkehrung von Alterskrankheiten ab\, indem sie deren gemeinsame Ursache\, den Alterungsprozess selbst\, in Angriff nimmt. \nDas Event bringt Start-ups\, Teilnehmer des Risikokapital-/Investorensystems für Langlebigkeit und Forscher zusammen\, die ein Start-up gründen oder sich einem solchen anschließen möchten – alle mit dem Ziel\, Therapien zu entwickeln\, die die gesunde menschliche Lebensspanne erheblich verlängern. Neben einer Reihe von spannenden Vorträgen\, Präsentationen und Diskussionsrunden bietet der Gipfel auch ein ganztägiges Startup-Forum. \nSparen Sie 30% und buchen Sie Ihre Tickets hier.
URL:https://www.vc-magazin.de/event/rejuvenation-start-up-summit-2022/
LOCATION:Radialsystem V\, Holzmarktstraße 33\, Berlin\, 10243\, Deutschland
ATTACH;FMTTYPE=image/jpeg:https://www.vc-magazin.de/wp-content/uploads/2022/09/Key-Visual-TWITTER-RSS-2022-22-05.jpg
END:VEVENT
END:VCALENDAR