BEGIN:VCALENDAR
VERSION:2.0
PRODID:-//VC Magazin - ECPv6.15.15//NONSGML v1.0//EN
CALSCALE:GREGORIAN
METHOD:PUBLISH
X-ORIGINAL-URL:https://www.vc-magazin.de
X-WR-CALDESC:Veranstaltungen für VC Magazin
REFRESH-INTERVAL;VALUE=DURATION:PT1H
X-Robots-Tag:noindex
X-PUBLISHED-TTL:PT1H
BEGIN:VTIMEZONE
TZID:Europe/Berlin
BEGIN:DAYLIGHT
TZOFFSETFROM:+0100
TZOFFSETTO:+0200
TZNAME:CEST
DTSTART:20210328T010000
END:DAYLIGHT
BEGIN:STANDARD
TZOFFSETFROM:+0200
TZOFFSETTO:+0100
TZNAME:CET
DTSTART:20211031T010000
END:STANDARD
BEGIN:DAYLIGHT
TZOFFSETFROM:+0100
TZOFFSETTO:+0200
TZNAME:CEST
DTSTART:20220327T010000
END:DAYLIGHT
BEGIN:STANDARD
TZOFFSETFROM:+0200
TZOFFSETTO:+0100
TZNAME:CET
DTSTART:20221030T010000
END:STANDARD
BEGIN:DAYLIGHT
TZOFFSETFROM:+0100
TZOFFSETTO:+0200
TZNAME:CEST
DTSTART:20230326T010000
END:DAYLIGHT
BEGIN:STANDARD
TZOFFSETFROM:+0200
TZOFFSETTO:+0100
TZNAME:CET
DTSTART:20231029T010000
END:STANDARD
END:VTIMEZONE
BEGIN:VEVENT
DTSTART;VALUE=DATE:20221115
DTEND;VALUE=DATE:20221119
DTSTAMP:20260421T140812
CREATED:20221028T074920Z
LAST-MODIFIED:20221028T080440Z
UID:69620-1668470400-1668815999@www.vc-magazin.de
SUMMARY:Gründerkongress 2022
DESCRIPTION:Am 15. November findet der nächste Gründerkongress statt. Erneut werden über 24.000 Online-Teilnehmer erwartet\, die an vier Tagen geballtes Wissen über das Gründen eines Business lernen! Spannende Experten aus verschiedensten Bereichen teilen ihre Erfahrungen im Live-Stream und versprechen Geheimtipps und Einblicke in ihre Gründergeschichten. \nWer schon länger überlegt\, ein eigenes Business zu gründen\, aber einfach nicht weiß wo er anfangen soll\, der ist beim Gründerkongress richtig aufgehoben. Vom 15. bis zum 18. November werden über 30 Experten darüber sprechen\, wie sie es selbst geschafft haben\, erfolgreich zu werden. Sie teilen ihre Erfahrungen\, sprechen über Fehler und verraten die ein oder andere Strategie. Zuschauer können sich ganz einfach kostenlos anmelden und in den Stream einwählen. \nDie Top-Speaker beim Gründerkongress 2022 sind Profis aus den verschiedensten Branchen. Business-Experte\, Bestsellerautor und Speaker Hermann Scherer ist eine echte Größe im Bereich Gründung\, auch Dr. med. Mareike Awe und Dr. Marc Reinbach sind Vorbilder für viele angehende Gründer. Die Ärzte haben ihr E-Health-Unternehmen intumind selbst finanziert und sind heute Unternehmer und Coaches. Ein weiteres Highlight: Nils Glagau. Er ist Investor bei Die Höhle der Löwen und unter anderem Geschäftsführer von Orthomol. Auch Nicolas Lecloux ist Unternehmer und hat gemeinsam mit seinen Mitgründern das Smoothie-Unternehmen true fruits gegründet. Als Marketingexperte steht er hinter den oftmals provokanten Werbebotschaften des Unternehmens. \nNeben spannenden Interviews und Vorträgen dürfen sich einige Gründer auch über eine Auszeichnung freuen\, welche ihnen traditionell am letzten Tag des Kongresses verliehen wird. Mit dem Gründer des Jahres Award werden Gründer in den Kategorien Food Champion\, Lifestyle Expert\, Female Empowerment\, Green Heroes und Top Technology ausgezeichnet\, die mit besonderen Innovationen und Ideen überzeugt haben. Das Publikum entscheidet mit einer Abstimmung für ihren Favoriten\, wer die Preise erhält. Eine Fachjury wählt aus den Gewinnern dann den Gründer des Jahres 2022. \nFür mehr Informationen und zur Anmeldung kommen Sie hier.
URL:https://www.vc-magazin.de/event/gruenderkongress-2022-2/
LOCATION:Online\, Deutschland
ATTACH;FMTTYPE=image/png:https://www.vc-magazin.de/wp-content/uploads/2022/10/headline-e1666943721636.png
END:VEVENT
BEGIN:VEVENT
DTSTART;TZID=Europe/Berlin:20221121T180000
DTEND;TZID=Europe/Berlin:20221121T233000
DTSTAMP:20260421T140812
CREATED:20221031T083402Z
LAST-MODIFIED:20221031T083402Z
UID:69627-1669053600-1669073400@www.vc-magazin.de
SUMMARY:Business Angel Informations- und Netzwerkveranstaltung
DESCRIPTION:Wie funktioniert ein Angel Investment? Mit welchen Chancen und Risiken ist ein derartiges Investment verbunden? Passt so ein Investment zu mir und in mein Portfolio? Wie kommen Investoren an einen „Deal Flow“? \nAntworten auf diese und weitere Fragen erhalten Sie auf der „Business Angel Informations- und Netzwerkveranstaltung“ am 21.11.2022 ab 18:00 Uhr im Degginger (Wahlenstraße 17\, 93047 Regensburg)\, die von der Digitalen Gründerinitiative Oberpfalz\, dem Gründerzentrum Digitalisierung Niederbayern und dem Digitalen Gründerzentrum Parsberg organisiert wird. Nutzen Sie die Gelegenheit\, sich in vertraulicher Atmosphäre mit erfahrenen Investoren auszutauschen\, voneinander zu lernen und hinter die Kulissen eines mehrfach finanzierten Start-ups zu blicken. Hören Sie in einem Impulsvortrag von Prof. Dr. Carsten Rudolph\, Geschäftsführer von BayStartUP\, von den Erfahrungen im Bereich Start-up Finanzierung und Wachstum. Profitieren Sie dadurch von einem deutschlandweiten eimaligen Wissen und Netzwerk\, das BayStartUP seit über 20 Jahren Marktbestehen auszeichnet. Seien Sie bei einer Podiumsdiskussion mit erfahrenen Business Angels dabei und haben im Anschluss die Möglichkeit zum Netzwerken und Erfahrungsaustausch. \nDie Veranstaltung richtet sich exklusiv sowohl an erfahrene Business Angel als auch Personen  die ein ernsthaftes Interesse haben\, in Start-ups zu investieren. Business Angels sind Privatpersonen mit unternehmerischer Erfahrung\, die junge Unternehmen nicht nur mit Kapital\, sondern auch mit ihrem Know-how und ihren Kontakten unterstützen. Das finanzielle Investment beträgt in der Regel zwischen 50.000 und 500.000 Euro pro Unternehmen. \nMelden Sie sich direkt an unter: https://eveeno.com/businessangel
URL:https://www.vc-magazin.de/event/business-angel-informations-und-netzwerkveranstaltung/
LOCATION:Degginger\, Wahlenstraße 17\, Regensburg\, Bayern\, 93047\, Deutschland
ATTACH;FMTTYPE=image/png:https://www.vc-magazin.de/wp-content/uploads/2022/10/image004.png
ORGANIZER;CN="ICT Innovations Technologie Campus GmbH":MAILTO:info@itc-deggendorf.de
END:VEVENT
BEGIN:VEVENT
DTSTART;TZID=Europe/Berlin:20221123T160000
DTEND;TZID=Europe/Berlin:20221123T180000
DTSTAMP:20260421T140812
CREATED:20221107T154818Z
LAST-MODIFIED:20221107T155023Z
UID:69768-1669219200-1669226400@www.vc-magazin.de
SUMMARY:Fraunhofer Investment Forum 2022
DESCRIPTION:Auf dem Fraunhofer Investment Forum 2022 werden über 20 HighTech Start-ups aus der Fraunhofer Welt präsentiert. Zu der (kostenlosen) digitalen Veranstaltung sind alle Interessierten eingeladen. Hauptzielgruppe sind Investoren\, aber auch Start-ups und andere Interessierten aus der Start-up Welt. \nIm Rahmen des Events werden kostenfrei Onepager des Fraunhofer-Beteiligungsportfolios für registrierte Teilnehmer auf der Veranstaltungsplattform zur Verfügung gestellt. \nMehr Informationen finden Sie hier.
URL:https://www.vc-magazin.de/event/fraunhofer-investment-forum-2022/
LOCATION:Online\, Deutschland
ATTACH;FMTTYPE=image/png:https://www.vc-magazin.de/wp-content/uploads/2022/11/unnamed.png
END:VEVENT
END:VCALENDAR