BEGIN:VCALENDAR
VERSION:2.0
PRODID:-//VC Magazin - ECPv6.15.15//NONSGML v1.0//EN
CALSCALE:GREGORIAN
METHOD:PUBLISH
X-WR-CALNAME:VC Magazin
X-ORIGINAL-URL:https://www.vc-magazin.de
X-WR-CALDESC:Veranstaltungen für VC Magazin
REFRESH-INTERVAL;VALUE=DURATION:PT1H
X-Robots-Tag:noindex
X-PUBLISHED-TTL:PT1H
BEGIN:VTIMEZONE
TZID:Europe/Berlin
BEGIN:DAYLIGHT
TZOFFSETFROM:+0100
TZOFFSETTO:+0200
TZNAME:CEST
DTSTART:20210328T010000
END:DAYLIGHT
BEGIN:STANDARD
TZOFFSETFROM:+0200
TZOFFSETTO:+0100
TZNAME:CET
DTSTART:20211031T010000
END:STANDARD
BEGIN:DAYLIGHT
TZOFFSETFROM:+0100
TZOFFSETTO:+0200
TZNAME:CEST
DTSTART:20220327T010000
END:DAYLIGHT
BEGIN:STANDARD
TZOFFSETFROM:+0200
TZOFFSETTO:+0100
TZNAME:CET
DTSTART:20221030T010000
END:STANDARD
BEGIN:DAYLIGHT
TZOFFSETFROM:+0100
TZOFFSETTO:+0200
TZNAME:CEST
DTSTART:20230326T010000
END:DAYLIGHT
BEGIN:STANDARD
TZOFFSETFROM:+0200
TZOFFSETTO:+0100
TZNAME:CET
DTSTART:20231029T010000
END:STANDARD
END:VTIMEZONE
BEGIN:VEVENT
DTSTART;TZID=Europe/Berlin:20221207T180000
DTEND;TZID=Europe/Berlin:20221207T230000
DTSTAMP:20260421T123743
CREATED:20221206T141356Z
LAST-MODIFIED:20221206T141430Z
UID:70194-1670436000-1670454000@www.vc-magazin.de
SUMMARY:shortlist Launch Event
DESCRIPTION:Heute schon die nächste Generation von Gründer*innen und VCs kennenlernen\n \nNach 50+ Besuchen bei Europas erfolgreichsten Startups und VCs wird mit der Community aus 500+ top-tier entrepreneurial Talenten shortlist gelaunched. Shortlist vernetzt die nächste Generation (GenZ) von ambitionierten Tech- und Business Talenten miteinander und gleichzeitig mit erstklassigen Startups\, VCs und Unternehmen (z.B. Tesla\, Enpal\, Sumup\, Celus\, Charles\, Lightspeed Ventures\, Earlybird Ventures\, Project A Ventures). \nZum offiziellen Launch Event der shortlist Brand\, am Abend des 7. Dezember in der Factory am Görlitzerpark\, sind neben Größen aus der Startup Branche z.B. Julian Teicke und Thomas Bachem zum ersten Mal auch Pressevertreter eingeladen. \nAuf der Startup Ecosystem Tours wird regelmäßig mit 30 ausgewählten Talenten für 3 Tage eine Startup-relevante\, europäische Stadt besucht\, um dort Start-ups und VCs näher kennenzulernen. Beim kommenden Trip (8. + 9. Dezember) wird unter anderem die Tesla Giga Factory\, Enpal\, Flink\, HV Capital\, Cherry Ventures\, Visonaries Club\, La Fagmila\, Target Global\, bunch\, KoRo und Surein besucht.
URL:https://www.vc-magazin.de/event/shortlist-launch-berlin/
LOCATION:Factory am Görlitzerpark\, Lohmühlenstraße 65\, Berlin\, 12435\, Deutschland
END:VEVENT
END:VCALENDAR