BEGIN:VCALENDAR
VERSION:2.0
PRODID:-//VC Magazin - ECPv6.15.15//NONSGML v1.0//EN
CALSCALE:GREGORIAN
METHOD:PUBLISH
X-ORIGINAL-URL:https://www.vc-magazin.de
X-WR-CALDESC:Veranstaltungen für VC Magazin
REFRESH-INTERVAL;VALUE=DURATION:PT1H
X-Robots-Tag:noindex
X-PUBLISHED-TTL:PT1H
BEGIN:VTIMEZONE
TZID:Europe/Berlin
BEGIN:DAYLIGHT
TZOFFSETFROM:+0100
TZOFFSETTO:+0200
TZNAME:CEST
DTSTART:20220327T010000
END:DAYLIGHT
BEGIN:STANDARD
TZOFFSETFROM:+0200
TZOFFSETTO:+0100
TZNAME:CET
DTSTART:20221030T010000
END:STANDARD
BEGIN:DAYLIGHT
TZOFFSETFROM:+0100
TZOFFSETTO:+0200
TZNAME:CEST
DTSTART:20230326T010000
END:DAYLIGHT
BEGIN:STANDARD
TZOFFSETFROM:+0200
TZOFFSETTO:+0100
TZNAME:CET
DTSTART:20231029T010000
END:STANDARD
BEGIN:DAYLIGHT
TZOFFSETFROM:+0100
TZOFFSETTO:+0200
TZNAME:CEST
DTSTART:20240331T010000
END:DAYLIGHT
BEGIN:STANDARD
TZOFFSETFROM:+0200
TZOFFSETTO:+0100
TZNAME:CET
DTSTART:20241027T010000
END:STANDARD
END:VTIMEZONE
BEGIN:VEVENT
DTSTART;VALUE=DATE:20230315
DTEND;VALUE=DATE:20230317
DTSTAMP:20260421T080157
CREATED:20230303T075636Z
LAST-MODIFIED:20230303T101856Z
UID:70960-1678838400-1679011199@www.vc-magazin.de
SUMMARY:World Class Digital Transformation & Innovation 2023
DESCRIPTION:Through a mix of case-study presentations\, interactive roundtable discussions\, Q&A sessions and hands-on workshops\, you will gain inspiring perspectives. The multi-stream format allows you to move freely between the sessions. Create your own personal agenda from the case studies and interactive round tables. If you can’t participate in the conference onsite\, you have the possibility to get the insights of the decision-makers via live streaming. \nWith the code: „wcdtfga25“ you can save 25%! \nWCDT23\nConfirmed speakers from Western Union\, Knauf\, Wizz Air\, Bayer 04 Leverkusen and many more. \nWhy attend? \n\nTake a peek into the future: Acquire the latest knowledge as like-minded industry peers show you the latest trends and developments in their fields\nInteract and discuss: Engage in face-to-face networking and inspiring conversations that propel your business\nDig deeper into the topics: Business round-table discussions allow interaction and dynamic discussion as well as ample opportunities to pose questions to an expert panel of speakers\nFoster your creativity and spark innovation: Keep your eyes peeled for inspirational sessions and out-of-the-box presentations\n3-in-1 opportunity: Make the most of your time by attending a single conference that will cover the topics every business leader should be talking about\n\nMore information here.
URL:https://www.vc-magazin.de/event/world-class-digital-transformation-innovation-2023/
LOCATION:Steigenberger Hotel Bad Homburg\, Kaiser-Friedrich-Promenade 69-75\, Bad Homburg vor der Höhe\, 61348\, Deutschland
ATTACH;FMTTYPE=image/png:https://www.vc-magazin.de/wp-content/uploads/2023/03/WCDT23_logos.png
END:VEVENT
BEGIN:VEVENT
DTSTART;TZID=Europe/Berlin:20230315T173000
DTEND;TZID=Europe/Berlin:20230315T203000
DTSTAMP:20260421T080157
CREATED:20230216T085542Z
LAST-MODIFIED:20230228T083242Z
UID:70803-1678901400-1678912200@www.vc-magazin.de
SUMMARY:PITSTOP@EnergyVentures
DESCRIPTION:What to expect?\nStartup pitches\, networking in a relaxed atmosphere\, snacks and drinks at the BayWa r.e. headquarters in Munich.\n\n  \n\nWhy?\nEither Zoom calls or start-up/investor speed-dating – that’s the day-to-day reality we suddenly found ourselves in. We missed informal face-to face conversations so much\, that we decided to create a platform for such meetings for the Munich ecosystem of start-ups\, investors and industry experts.\n\nIn 2023 the event will take place 3 times: \n\nMarch 15\nJune 28\nOctober 25\n\nMore information here.
URL:https://www.vc-magazin.de/event/pitstop-energyventures/
LOCATION:Barista Bar\, Arabellastraße 4\, München\, Bayern\, 81925\, Deutschland
ATTACH;FMTTYPE=image/jpeg:https://www.vc-magazin.de/wp-content/uploads/2023/02/image001.jpg
END:VEVENT
BEGIN:VEVENT
DTSTART;TZID=Europe/Berlin:20230321T080000
DTEND;TZID=Europe/Berlin:20230321T170000
DTSTAMP:20260421T080157
CREATED:20230321T135734Z
LAST-MODIFIED:20230321T135734Z
UID:71079-1679385600-1679418000@www.vc-magazin.de
SUMMARY:Gründerszene CFO Dinner Hamburg
DESCRIPTION:Das Gründerszene CFO Dinner bringt führende Köpfe der Finanzszene in gehobener Atmosphäre zusammen\, um sich über branchenbezogene Herausforderungen und Trends auszutauschen. \n\nDatum: \n25. Mai 2023 / 19:00 – 00:00 Uhr \nOrt: \nHeimat Restaurant\nÜberseeallee 5\, 20479 Hamburg \nMehr Informationen hier.
URL:https://www.vc-magazin.de/event/gruenderszene-cfo-dinner-hamburg-2023/
LOCATION:Heimat Restaurant\, Überseeallee 5\, Hamburg\, Hamburg\, 20479\, Deutschland
END:VEVENT
BEGIN:VEVENT
DTSTART;VALUE=DATE:20230322
DTEND;VALUE=DATE:20230323
DTSTAMP:20260421T080157
CREATED:20230301T101324Z
LAST-MODIFIED:20230302T120734Z
UID:70946-1679443200-1679529599@www.vc-magazin.de
SUMMARY:The MarTech Summit Berlin
DESCRIPTION:BEETc is bringing the renowned MarTech Summit series to Germany with this event taking place in the country’s capital\, Berlin. In this English language agenda the status and development of marketing technology used by different companies\, both local and global with a strong European base will be discussed. This variety of perspectives on globalisation and localisation tactics will give a comprehensive view of the trends and strategies in place. In addition\, the summit is guaranteed to be attended by 85% of senior leadership positions\, ensuring you will learn and network with CMOs\, Heads\, Directors and more. \nThis summit is designed for senior level executives in functions such as:\nMarketing & Technology | Brand Loyalty & Retention | Data Privacy | E-commerce Marketing | Digital Strategy | Customer Experience (CX) & Engagement | OmniChannel | Innovation | Social Media | Content Strategy & Storytelling | CRM | Customer Data Platforms | Digital Asset Management | Automation | Digital Transformation & Growth | Digital Experience | Customer Journey Marketing | Full-funnel Marketing \nConfirmed speakers from PepsiCo Europe\, N26\, Gorillas\, Müller\, DHL\, Delivery Hero\, Zurich\, Danone and more. Full agenda here. \nMore information here. \n  \nRead more about The MARTECH SUMMIT.
URL:https://www.vc-magazin.de/event/the-martech-summit-berlin-2023/
LOCATION:Park Inn by Radisson Berlin Alexanderplatz\, Alexanderplatz 7\, Berlin\, Berlin\, 10178\, Deutschland
ATTACH;FMTTYPE=image/png:https://www.vc-magazin.de/wp-content/uploads/2023/03/Berlin-summit-banner-e1677758842440.png
END:VEVENT
BEGIN:VEVENT
DTSTART;VALUE=DATE:20230322
DTEND;VALUE=DATE:20230325
DTSTAMP:20260421T080157
CREATED:20230315T155624Z
LAST-MODIFIED:20230315T155624Z
UID:71017-1679443200-1679702399@www.vc-magazin.de
SUMMARY:REAL PropTech Pitches 2023
DESCRIPTION:Der größte PropTech Pitch Europas geht in die dritte Runde. Wir freuen uns\, als offizieller Medienpartner dabei zu sein und sind schon sehr auf das Event gespannt! \nAm 22. – 24. März 2023 startet DAS PropTech Pitch Event des Jahres\, bei dem die relevantesten Player der Bau- und Immobilienwelt ihre Lösungen für die akuten und konkreten Probleme der Branche präsentieren. \nNationale und internationale PropTechs pitchen dabei 100% digital.\nSichern Sie sich jetzt noch hier eines der letzten Tickets.
URL:https://www.vc-magazin.de/event/real-proptech-pitches-2023/
LOCATION:Online\, Deutschland
ATTACH;FMTTYPE=image/png:https://www.vc-magazin.de/wp-content/uploads/2023/03/bcec572870a55408c143ddeb6b92d02f.1170x5000.e86ce527a6fba3.png
END:VEVENT
BEGIN:VEVENT
DTSTART;TZID=Europe/Berlin:20230327T170000
DTEND;TZID=Europe/Berlin:20230327T210000
DTSTAMP:20260421T080157
CREATED:20230320T152037Z
LAST-MODIFIED:20230320T153157Z
UID:71074-1679936400-1679950800@www.vc-magazin.de
SUMMARY:Panel "Fundraising Mechanics and Current Venture Capital Trends in Israel"
DESCRIPTION:Osborne Clarke is delighted to invite you to the session “Fundraising Mechanics and Current Venture Capital Trends in Israel” where the differences between Israel and Germany regarding deal terms in Venture Capital transactions and current market trends in the Israeli start-up eco-system will be explored. It is widely known that business is done differently in the middle east\, but how do the legal aspects of a deal actually differ from German transactions? What trends are to watch in the so-called Silicon Wadi? And what is the best way to connect German investors with Israeli start-ups? \nConfirmed panelists are: \n\nRon Abelski\, Partner at Epstein Rosenblum Maoz (Tel Aviv)\nDr. Markus Gick\, Managing Partner at xdeck (Cologne)\nMali Baum\, Serial entrepreneur\nDana Alpar\, Associate at Osborne Clarke (Berlin)\nMaximilian Vocke\, Partner at Osborne Clarke (Berlin)\n\nRegister here.
URL:https://www.vc-magazin.de/event/panel-fundraising-mechanics-and-current-venture-capital-trends-in-israel/
LOCATION:Osborne Clarke\, Schinkelplatz 5\, Berlin\, 10117\, Deutschland
END:VEVENT
BEGIN:VEVENT
DTSTART;VALUE=DATE:20230328
DTEND;VALUE=DATE:20230331
DTSTAMP:20260421T080157
CREATED:20230111T114910Z
LAST-MODIFIED:20230206T104703Z
UID:70566-1679961600-1680220799@www.vc-magazin.de
SUMMARY:0100 Conference Europe
DESCRIPTION:In cooperation with the city of Amsterdam\, 0100 Conferences brings a 3-day global event for the private equity and venture capital industry with 450+ Europe’s leading LPs and GPs in Amsterdam in March of 2023. \nHand-picked guests include high-profile fund investors (pension funds\, funds of funds\, family offices\, endowments\, foundations\, insurance companies\, sovereign wealth funds\, and HNWIs)\, fund managers (PE\, VC\, CVC)\, and high-level executives from top service providers\, so you can have insightful discussions\, exchange perspectives\, and skip trial and error and build a proven successful strategy for your fund. \nMore information and registration here.
URL:https://www.vc-magazin.de/event/0100-conference-europe/
LOCATION:Leonardo Royal Hotel Amsterdam\, Paul van Vlissingenstraat 24\, Amsterdam\, 1096 BK\, Niederlande
ATTACH;FMTTYPE=image/jpeg:https://www.vc-magazin.de/wp-content/uploads/2023/01/EU-banner-1-728x90-1.jpg
END:VEVENT
BEGIN:VEVENT
DTSTART;VALUE=DATE:20230328
DTEND;VALUE=DATE:20230330
DTSTAMP:20260421T080157
CREATED:20230323T142828Z
LAST-MODIFIED:20230323T142828Z
UID:71112-1679961600-1680134399@www.vc-magazin.de
SUMMARY:German CRM Forum
DESCRIPTION:Am 28./ 29. März 2023 geht im Steigenberger Airport Hotel\, Frankfurt a.M. die führende CRM-Konferenz Deutschlands unter dem Motto „CRM. Jetzt.“ in die 13. Runde! \nDas German CRM Forum ist das führende Format für Kundenbeziehungsmanagement in Deutschland. Zwanzigmal Praxis pur und ungeschminkt und sieben inspirierende Keynotes machen das German CRM Forum aus. \nMehr Informationen und Anmeldung hier.
URL:https://www.vc-magazin.de/event/german-crm-forum-2023/
LOCATION:Steigenberger Airport Hotel\, Unterschweinstiege 16\, Frankfurt a.M.\, Hessen\, 60549\, Deutschland
END:VEVENT
BEGIN:VEVENT
DTSTART;TZID=Europe/Berlin:20230328T160000
DTEND;TZID=Europe/Berlin:20230328T200000
DTSTAMP:20260421T080157
CREATED:20230317T131500Z
LAST-MODIFIED:20230317T131500Z
UID:71041-1680019200-1680033600@www.vc-magazin.de
SUMMARY:Green Finance Inspiration Day
DESCRIPTION:Um ESG-konformes Investieren zu fördern und nachhaltige Investmentmöglichkeiten vorzustellen\, richtet das Plug and Play Tech Center am Dienstag\, den 28. März 2023 den Green Finance Inspiration Day aus. Ziel des Plug and Play Tech Centers ist es\, FinTechs noch stärker mit den großen Playern der Finanzwelt zu vernetzen\, Synergien aufzubauen und eine Plattform für die Zukunft der Finanzbranche zu schaffen. \nNeben Präsentationen nachhaltiger Produktinnovationen erwarten Sie spannende Panel-Diskussionen\, inspirierende Keynotes sowie die Möglichkeit\, sich mit erfahrenen Experten der Branche auszutauschen. Unter anderen werden folgende Speaker und Panelteilnehmer anwesend sein:\n \n\nStephan Kippe\, Head of ESG Research der Commerzbank\nDr. Inna Amesheva\, Director of ESG Regulatory Research von ESG Book \nChristina Sell\, Chief Sustainability Officer Trading & Clearing der Deutschen Börse\n\nZur Anmeldung hier.
URL:https://www.vc-magazin.de/event/green-finance-inspiration-day/
LOCATION:Junghofstraße 16\, Junghofstraße 16\, Frankfurt am Main\, Hessen\, 60311\, Deutschland
END:VEVENT
BEGIN:VEVENT
DTSTART;TZID=Europe/Berlin:20230330T170000
DTEND;TZID=Europe/Berlin:20230330T183000
DTSTAMP:20260421T080157
CREATED:20230315T135015Z
LAST-MODIFIED:20230315T135601Z
UID:71011-1680195600-1680201000@www.vc-magazin.de
SUMMARY:Fireside Chat
DESCRIPTION:Road to Success for German Tech Startups\nAm 30.03.2023 findet in den Räumen der Weitnauer Rechtsanwälte der Fireside Chat statt. Von 17:00-18:30 Uhr (anschließend Networking bei Drinks und Buffet) erwartet Sie eine prominent besetzte Diskussionsrunde. \nFireside Chat für Gründer mit:\n• Heiko Schwarz\, Co-Founder\, riskmethods\n• Rolf Zimmer\, Co-Founder\, riskmethods\n• Dominik Hertzler\, Principal\, Yttrium\n• Andreas Hering\, Partner & Head of Munich\, Clipperton\n• Benedikt Mahr\, Managing Partner\, Weitnauer \nAnmeldungen bis zum 27.03.2023 an: muenchen@weitnauer.net
URL:https://www.vc-magazin.de/event/fireside-chat-weitnauer/
LOCATION:Kanzlei Weitnauer\, Ohmstraße 22\, München\, Bayern\, 80802\, Deutschland
ATTACH;FMTTYPE=image/png:https://www.vc-magazin.de/wp-content/uploads/2023/03/weitnauer_fireside_chat.png
END:VEVENT
END:VCALENDAR