BEGIN:VCALENDAR
VERSION:2.0
PRODID:-//VC Magazin - ECPv6.15.15//NONSGML v1.0//EN
CALSCALE:GREGORIAN
METHOD:PUBLISH
X-WR-CALNAME:VC Magazin
X-ORIGINAL-URL:https://www.vc-magazin.de
X-WR-CALDESC:Veranstaltungen für VC Magazin
REFRESH-INTERVAL;VALUE=DURATION:PT1H
X-Robots-Tag:noindex
X-PUBLISHED-TTL:PT1H
BEGIN:VTIMEZONE
TZID:Europe/Berlin
BEGIN:DAYLIGHT
TZOFFSETFROM:+0100
TZOFFSETTO:+0200
TZNAME:CEST
DTSTART:20220327T010000
END:DAYLIGHT
BEGIN:STANDARD
TZOFFSETFROM:+0200
TZOFFSETTO:+0100
TZNAME:CET
DTSTART:20221030T010000
END:STANDARD
BEGIN:DAYLIGHT
TZOFFSETFROM:+0100
TZOFFSETTO:+0200
TZNAME:CEST
DTSTART:20230326T010000
END:DAYLIGHT
BEGIN:STANDARD
TZOFFSETFROM:+0200
TZOFFSETTO:+0100
TZNAME:CET
DTSTART:20231029T010000
END:STANDARD
BEGIN:DAYLIGHT
TZOFFSETFROM:+0100
TZOFFSETTO:+0200
TZNAME:CEST
DTSTART:20240331T010000
END:DAYLIGHT
BEGIN:STANDARD
TZOFFSETFROM:+0200
TZOFFSETTO:+0100
TZNAME:CET
DTSTART:20241027T010000
END:STANDARD
END:VTIMEZONE
BEGIN:VEVENT
DTSTART;VALUE=DATE:20230415
DTEND;VALUE=DATE:20230417
DTSTAMP:20260421T061220
CREATED:20230117T092523Z
LAST-MODIFIED:20230406T084523Z
UID:70577-1681516800-1681689599@www.vc-magazin.de
SUMMARY:The Founder Summit 2023
DESCRIPTION:Am 15. und 16. April 2023 eröffnet das Rhein Main Kongress Center in Wiesbaden die Tore für Deutschlands größte Gründerkonferenz „The Founder Summit“. An diesem Wochenende erwarten Sie mehr als 7.000 Teilnehmer\, 200+ Aussteller und Startups\, 12 Bühnen mit renommierten Experten und bekannten Persönlichkeiten in verschiedenen Themengebieten. Erleben Sie eine Kombination aus Entertainment und Education und vernetzen Sie sich mit Gleichgesinnten! \nMehr Informationen und Tickets hier. \nAgenda und Teilnehmerliste folgen. \nZum Aftermovie von 2022 kommen Sie hier.
URL:https://www.vc-magazin.de/event/the-founder-summit-2023/
LOCATION:RheinMain CongressCenter\, Friedrich-Ebert-Allee 1\, Wiesbaden\, 65185
ATTACH;FMTTYPE=image/png:https://www.vc-magazin.de/wp-content/uploads/2023/01/FS-Partner-Email-Header.png
END:VEVENT
BEGIN:VEVENT
DTSTART;TZID=Europe/Berlin:20230421T170000
DTEND;TZID=Europe/Berlin:20230421T210000
DTSTAMP:20260421T061220
CREATED:20230315T101328Z
LAST-MODIFIED:20230315T101624Z
UID:70993-1682096400-1682110800@www.vc-magazin.de
SUMMARY:Pitch Contest (Accelerate Conference 2023)
DESCRIPTION:Am 21.04.2023 um 17 Uhr findet im Spinlab (Baumwollspinnerei\, Leipzig) der Pitch-Contest statt. Der Wettbewerb findet im Rahmen der Accelerate Conference 2023 statt. \nAccelerate Conference 2023\nAccelerate is the entrepreneurship event of Germany’s most entrepreneurial university – HHL Leipzig Graduate School Of Management\, organized exclusively by students. This year’s Accelerate conference is themed „Challenging Existing Structures“ . The two days conference is all about how startups are a key driver of the developing German economy and how SME’s\, startups and collaborations can work together and learn from each other for mutual benefit. \nThe yearly Pitch Contest is one of the Conference’s highlights and gives you the chance to present your business plan to a jury of top professionals and receive valuable feedback on it. This year is branded by WEPA ventures to support impactful and new ideas from new founders. \nWhy should you participate?\n\nAccess the online academy of SpinLab\nParticipate in this year’s batch from HHL digital space\nReceive high-value feedback from our jury about your business idea\nExpand your network and find potential business partner\nIncrease your brand awareness and attract talents\n\nSend your pitch deck and a one pager (brief summary of your idea) to accelerate@hhl.de until March 20th and answer the question “How do you challenge existing structures?“ \nMore Information\, agenda and how to apply here. \n  \n 
URL:https://www.vc-magazin.de/event/pitch-contest-accelerate-conference-2023/
LOCATION:Baumwollspinnerei Leipzig\, Spinnereistraße 7\, Leipzig\, 04179\, Deutschland
END:VEVENT
BEGIN:VEVENT
DTSTART;VALUE=DATE:20230425
DTEND;VALUE=DATE:20230427
DTSTAMP:20260421T061220
CREATED:20221207T132442Z
LAST-MODIFIED:20230130T151903Z
UID:70205-1682380800-1682553599@www.vc-magazin.de
SUMMARY:BAI Alternative Investor Conference 2023
DESCRIPTION:Der BAI\, als Verband und Vertreter der Alternativen Investment-Industrie in Deutschland\, möchte mit der BAI Alternative Investor Conference (AIC) den Teilnehmern eine Plattform des fachlichen Gedankenaustausches bieten und darüber hinaus maßgeblich dazu beitragen\, dass das Thema Alternative Investments mit einem besseren Verständnis von der Öffentlichkeit aufgenommen wird. Die BAI AIC richtet sich in erster Linie an institutionelle Investoren\, sie bietet aber auch Produktanbietern und Dienstleistern eine optimale Gelegenheit\, um Erfahrungen auszutauschen und über neueste Erkenntnisse und Trends in der AI-Industrie zu diskutieren. \nAlternative Investments spielen in den Portfolios institutioneller Investoren aufgrund der positiven Eigenschaften im Hinblick auf Risikominderung und der Chance auf höhere Renditen eine zunehmende Bedeutung. Auch bei Investoren aus Deutschland wächst seit Jahren stetig das Interesse\, so dass viele institutionelle Investoren mittlerweile vermehrt auch in Alternative Investments investieren. \nVerpassen Sie nicht die Branchenkonferenz rund um das Thema Alternative Investments! Mehr Informationen hier \nHier Tickets zu einem Sonderpreis sichern.
URL:https://www.vc-magazin.de/event/bai-alternative-investor-conference-2023/
LOCATION:Kap Europa\, Osloer Strasse 5\, Frankfurt am Main\, 60327\, Deutschland
ATTACH;FMTTYPE=image/png:https://www.vc-magazin.de/wp-content/uploads/2022/12/AIC-BILD-klassisch-e1674828629350.png
END:VEVENT
BEGIN:VEVENT
DTSTART;TZID=Europe/Berlin:20230425T163000
DTEND;TZID=Europe/Berlin:20230425T200000
DTSTAMP:20260421T061220
CREATED:20230315T133412Z
LAST-MODIFIED:20230315T133728Z
UID:71008-1682440200-1682452800@www.vc-magazin.de
SUMMARY:Klein MIT Groß
DESCRIPTION:Kooperation- & Pitching-Event „Klein MIT Groß – Start-ups & Corporates gemeinsam für mehr Nachhaltigkeit!?“ \nOpen Innovation Calls\, Entwicklungsprojekte\, Kundenbeziehungen\, strategisches Investment – die Möglichkeiten für die Zusammenarbeit zwischen Start-ups und Corporates sind mindestens so vielfältig wie die Veranstaltungen zu diesem Thema.  \nDie Theorie klingt einfach: Kooperation = Mehrwert für alle Beteiligten. Das Kooperations- und Pitching-Event „Klein MIT Groß“ am 25.4.2023 ab 16.30 Uhr in der Kraftzentrale Straubing blickt etwas tiefer und fragt: Bestätigt die Praxis diese Annahme? Können Kooperationen mit auf Nachhaltigkeit ausgerichteten Start-ups als Innovationstreiber für Nachhaltigkeits-Challenges aus Industrie und Mittelstand dienen? Welche Fallstricke gilt es zu überwinden\, damit ein Benefit entsteht?   \nIm ersten Teil des Events werden Start-up-Corporate Kooperationen aus verschiedenen Perspektiven in Form von Impulsvorträgen von High-Tech Gründerfonds\, SIHL\, Kelheim Fibres & SUMO (Tandem) beleuchtet. Der zweite Teil startet mit Reverse Pitches zu konkreten Nachhaltigkeitsfragestellungen von Corporates. Mit dabei: Wacker AG\, Südzucker Gruppe\, SONAX\, Dichtungstechnik Wallstabe+Schneider und mehr. In anschließenden Roundtables und Networking können erste Ansätze für die Lösung der Challenges und weitere Kooperationsanbahnungen vertieft werden.  \nKlein MIT Groß wird organisiert von der BioCampus Straubing GmbH / PlanBund Chemie-Cluster Bayern. Partner: TUM Venture Labs & BioeconomyVentures  \nAlle Infos\, die Corporate Challenges und mehr gibt es hier.
URL:https://www.vc-magazin.de/event/klein-mit-gross-biocampus-straubing/
LOCATION:Kraftzentrale Straubing\, Mahkornstraße 20\, Straubing\, Bayern\, 94315\, Deutschland
ATTACH;FMTTYPE=image/jpeg:https://www.vc-magazin.de/wp-content/uploads/2023/03/Key-Visual_KMg-scaled.jpg
END:VEVENT
BEGIN:VEVENT
DTSTART;TZID=Europe/Berlin:20230425T170000
DTEND;TZID=Europe/Berlin:20230425T180000
DTSTAMP:20260421T061220
CREATED:20230317T072014Z
LAST-MODIFIED:20230317T072014Z
UID:71031-1682442000-1682445600@www.vc-magazin.de
SUMMARY:4C Close-up Webinar
DESCRIPTION:Auch in diesem Jahr wird die Webinar-Serie „4C Close-up“ fortgeführt. In dem Seminar diskutieren MII-Experten mit erfahrenen Praktikern aus fortgeschrittenen Start-ups praxisnahe Themen. Und der erste Termin steht bereits! Kostenfreie Anmeldung und mehr Infos hier! \n\nWann? Dienstag\, 25.04.2023\, 17-18 Uhr\, via MS Teams\nWas? „Insights into C2 | Requirements engineering & good product development “\nWer? Stefan Hotz (Co-Founder\, Kamedi GmbH) & Dr. Henrike Stutzki (Startup Coach\, MII)\nWie? Kostenfreie Anmeldung über die MII-Website!
URL:https://www.vc-magazin.de/event/4c-close-up-webinar-mi-incubator/
LOCATION:Online\, Deutschland
END:VEVENT
BEGIN:VEVENT
DTSTART;VALUE=DATE:20230426
DTEND;VALUE=DATE:20230427
DTSTAMP:20260421T061220
CREATED:20230111T115619Z
LAST-MODIFIED:20230421T094732Z
UID:70569-1682467200-1682553599@www.vc-magazin.de
SUMMARY:0100 Conference CEE
DESCRIPTION:Your Chance to Build Meaningful Relationships with Leading PE & VC Investors at 0100 Conference CEE in Prague! \nZero One Hundred Conferences is proud to present its twelfth edition of the 0100 Conference CEE 2023\, taking place on April 26th\, 2023 in Prague\, Czechia. This is your opportunity to meet and network with senior level general and limited partners\, as well as leading service providers and other industry professionals from all over Europe. \n \nBuilding Connections that Matter\nAt the 0100 Conference CEE 2023\, you’ll have the chance to make real\, meaningful\nconnections with your peers. Whether it’s through the VIP Dinner\, 1:1 meetings\, networking breaks or networking side events\, you’ll have the chance to build relationships with high-level LPs and GPs in the industry. \nSpeakers will share their experiences and insights on what they’re looking for in the\nindustry. And with a market-driven agenda focused on the hottest LP issues\, you’ll be in the\nknow on the latest trends and insights from leading experts. \nSome notable firms you can meet include Advent International\, BaltCap\, BlackRock Private\nEquity Partners\, Credo Ventures\, Consilium\, CVC\, Earlybird Digital East\, EIF\, Erste Asset\nManagement\, Innova Capital\, INVEGA\, INVL\, IFC\, KKCG\, LGT Capital Partners\, MCI\nCapital\, Molten Ventures\, MidEuropa\, Munich Private Equity Partners\, PFR Ventures\, RSJ\nInvestments\, Schroders\, Silverhorn Capital\, Speedinvest\, World Fund and many others. \nMake the most of your time at the 0100 Conference CEE 2023 by attending networking side\nevents. Join speakers\, sponsors\, and selected investors for an event of human connection\,\ntaking your networking to the next level. \nMore information here. \nFind the agenda here. \n 
URL:https://www.vc-magazin.de/event/0100-conference-cee-2023/
LOCATION:Hotel NH Collection Prague Carlo IV\, Senovážné nám. 13/991\, Prag\, Prag\, 110 00\, Tschechische Republik
END:VEVENT
BEGIN:VEVENT
DTSTART;TZID=Europe/Berlin:20230426T090000
DTEND;TZID=Europe/Berlin:20230426T103000
DTSTAMP:20260421T061220
CREATED:20230327T081850Z
LAST-MODIFIED:20230327T081850Z
UID:71151-1682499600-1682505000@www.vc-magazin.de
SUMMARY:futureSAX-Matching YZR Capital
DESCRIPTION:Der frühzeitige Beginn der persönlichen „Investors Journey“ bietet jungen Unternehmen die Möglichkeit\, Kontakte zu Kapitalgebern aufzubauen\, Feedback einzuholen und einen systematischen Prozess zur Vorbereitung und Durchführung der Finanzierungsrunde zu starten. Das futureSAX-Matching unterstützt dabei innovative Unternehmen und Gründungsprojekte auf ihrem Wege durch die Vernetzung mit relevanten Kapitalgebern. \nAls Partner der aktuellen Ausgabe des futureSAX-Matchings screent YZR Capital aus dem futureSAX-Investoren-Netzwerk die vorstellenden Gründungs- und Wachstumsunternehmen und gibt aktives Feedback. Der neue Investitionsfonds für europäische Early-Stage Startups aus dem Bereich Health Tech fokussiert sich auf auf Pre-Seed\, Seed und Series A Finanzierungen. \nMehr Informationen hier.
URL:https://www.vc-magazin.de/event/futuresax-matching-yzr-capital/
LOCATION:Online\, Deutschland
END:VEVENT
BEGIN:VEVENT
DTSTART;TZID=Europe/Berlin:20230426T170000
DTEND;TZID=Europe/Berlin:20230426T210000
DTSTAMP:20260421T061220
CREATED:20230410T073917Z
LAST-MODIFIED:20230410T073917Z
UID:71288-1682528400-1682542800@www.vc-magazin.de
SUMMARY:Fundraising & Legal Growth Financing Strategies for Start-ups
DESCRIPTION:Join the upcoming session “Fundraising & Legal Growth Financing Strategies for Start-ups” by Osborne Clarke. This time Osborne Clarke joined forces with Stout\, an investment bank especially active within the technology\, media\, and telecommunications (TMT) sector. Valuation levels\, fundraising timelines and key points are goind to be discussed to cover in your deck and business plan in light of the current market situation. Also venture debt\, as opposed to an equity round and some key take aways regarding cap table management will be presented. \nMore information\, the agenda and registration here.
URL:https://www.vc-magazin.de/event/osborne-clarke-panel-discussion-2023/
LOCATION:Osborne Clarke\, Nymphenburgerstraße 1\, München\, 80335\, Deutschland
END:VEVENT
END:VCALENDAR