BEGIN:VCALENDAR
VERSION:2.0
PRODID:-//VC Magazin - ECPv6.15.15//NONSGML v1.0//EN
CALSCALE:GREGORIAN
METHOD:PUBLISH
X-WR-CALNAME:VC Magazin
X-ORIGINAL-URL:https://www.vc-magazin.de
X-WR-CALDESC:Veranstaltungen für VC Magazin
REFRESH-INTERVAL;VALUE=DURATION:PT1H
X-Robots-Tag:noindex
X-PUBLISHED-TTL:PT1H
BEGIN:VTIMEZONE
TZID:Europe/Berlin
BEGIN:DAYLIGHT
TZOFFSETFROM:+0100
TZOFFSETTO:+0200
TZNAME:CEST
DTSTART:20220327T010000
END:DAYLIGHT
BEGIN:STANDARD
TZOFFSETFROM:+0200
TZOFFSETTO:+0100
TZNAME:CET
DTSTART:20221030T010000
END:STANDARD
BEGIN:DAYLIGHT
TZOFFSETFROM:+0100
TZOFFSETTO:+0200
TZNAME:CEST
DTSTART:20230326T010000
END:DAYLIGHT
BEGIN:STANDARD
TZOFFSETFROM:+0200
TZOFFSETTO:+0100
TZNAME:CET
DTSTART:20231029T010000
END:STANDARD
BEGIN:DAYLIGHT
TZOFFSETFROM:+0100
TZOFFSETTO:+0200
TZNAME:CEST
DTSTART:20240331T010000
END:DAYLIGHT
BEGIN:STANDARD
TZOFFSETFROM:+0200
TZOFFSETTO:+0100
TZNAME:CET
DTSTART:20241027T010000
END:STANDARD
END:VTIMEZONE
BEGIN:VEVENT
DTSTART;VALUE=DATE:20230901
DTEND;VALUE=DATE:20230906
DTSTAMP:20260420T220305
CREATED:20230623T130326Z
LAST-MODIFIED:20230623T130326Z
UID:71767-1693526400-1693958399@www.vc-magazin.de
SUMMARY:IFA 2023
DESCRIPTION:Die IFA ist die weltweit größte Messe für Unterhaltungselektronik und Haushaltsgeräte. \nDie IFA gibt es seit 1924\, und da wir nun 99 Jahre feiern\, ist es wichtig\, einen Blick in die Vergangenheit zu werfen\, um zu sehen\, wohin wir gekommen sind und wie die IFA im Zentrum von Technologie und Innovation gestanden hat. \nExpect fireworks from IFA Next in 2023. With Berlin and the rest of Europe hosting one of the world’s most diverse and exciting startup ecosystems\, IFA decided it was time to shine a proper light on it.
URL:https://www.vc-magazin.de/event/ifa-2023/
LOCATION:Messe Berlin\, Messedamm 22\, Berlin\, 14055\, Deutschland
END:VEVENT
BEGIN:VEVENT
DTSTART;TZID=Europe/Berlin:20230907T190000
DTEND;TZID=Europe/Berlin:20230907T233000
DTSTAMP:20260420T220305
CREATED:20230321T141458Z
LAST-MODIFIED:20230321T141458Z
UID:71087-1694113200-1694129400@www.vc-magazin.de
SUMMARY:CTO Dinner Berlin
DESCRIPTION:Das Gründerszene CTO Dinner bringt führende Köpfe der Tech-Szene in gehobener Atmosphäre zusammen\, um sich über branchenbezogene Herausforderungen und Trends auszutauschen. \nDatum: \n7. September 2023 / 19:00 – 00:00 Uhr \nOrt: \nBerlin \nMehr Informationen hier.
URL:https://www.vc-magazin.de/event/cto-dinner-berlin-2023/
LOCATION:Berlin
END:VEVENT
BEGIN:VEVENT
DTSTART;TZID=Europe/Berlin:20230914T190000
DTEND;TZID=Europe/Berlin:20230914T233000
DTSTAMP:20260420T220305
CREATED:20230321T141713Z
LAST-MODIFIED:20230321T141713Z
UID:71088-1694718000-1694734200@www.vc-magazin.de
SUMMARY:CFO Dinner Berlin
DESCRIPTION:Das Gründerszene CFO Dinner bringt führende Köpfe der Finanzszene in gehobener Atmosphäre zusammen\, um sich über branchenbezogene Herausforderungen und Trends auszutauschen.  \nDatum: \n14. September 2023 / 19:00 – 00:00 Uhr \nOrt: \nFleischerei\nSchönhauser Allee 8\n10119 Berlin \nMehr Informationen hier.
URL:https://www.vc-magazin.de/event/cfo-dinner-berlin-2023/
LOCATION:Berlin
END:VEVENT
BEGIN:VEVENT
DTSTART;VALUE=DATE:20230918
DTEND;VALUE=DATE:20230921
DTSTAMP:20260420T220305
CREATED:20230419T093653Z
LAST-MODIFIED:20230419T093710Z
UID:71351-1694995200-1695254399@www.vc-magazin.de
SUMMARY:IPEM Paris 2023
DESCRIPTION:With $2.6 trillion under management and over $10 trillion in institutional capital\, Paris is the Nr. 1 hub for private markets in Europe\, and the perfect stage for a decisive industry gathering. In September\, the Jardin des Tuileries (in a 10\,000 m² venue!) and the Westin Hotel will offer a magical setting for your fundraising meetings. \nIPEM’s very own “private-equity-meets-tradeshow” format and its special\, relaxed atmosphere have won the hearts of the industry since 2016. With IPEM’s digital services\, plan curated meetings and prepare your event in advance – allowing for more quality time and better networking! \nFind the program here. \nMore information and registration here.
URL:https://www.vc-magazin.de/event/ipem-paris-2023/
LOCATION:Jardin des Tuileries\, Paris\, Frankreich
END:VEVENT
BEGIN:VEVENT
DTSTART;VALUE=DATE:20230920
DTEND;VALUE=DATE:20230921
DTSTAMP:20260420T220305
CREATED:20230802T141737Z
LAST-MODIFIED:20230802T141737Z
UID:72183-1695168000-1695254399@www.vc-magazin.de
SUMMARY:The Migrant Accelerator Demo Day
DESCRIPTION:The Migrant Accelerator (TMA) ist ein dreimonatiges Mentoring-Programm für Gründerinnen und Gründer mit Migrationserfahrung\, die in Deutschland leben und bietet Live-Workshops zu gründungsrelevanten Themen und Empowerment an. Teilnehmerinnen und Teilnehmer werden durch erfahrene migrantische Gründerinnen und Gründer sowie Expertinnen und Experten in der Ausarbeitung ihres Geschäftsmodells\, Produktentwicklung und in der Anschluss-finanzierung unterstützt. \nEs richtet sich an migrantische Gründerinnen und Gründer\, die bereits einen Prototyp / MVP–Minimum Viable Product entwickelt haben und findet von Juni bis August 2023 wöchentlich\, online und auf Englisch statt. TMA ist ein Zusatzangebot für Gründerinnen und Gründer mit Migrationserfahrung\, um sich in der deutschen Start-up-Landschaft besser zurecht zu finden und bietet Zugang zu Mentoring\, Workshops und einem Netzwerk aus Gleichgesinnten. \nDie Registrierung öffnet ab März 2023\, Interessierte dürfen sich gerne für die Warteliste einschreiben. \nBei Fragen zum Projekt dürfen Sie sich an Frau Laila Zohaib (zohaib@hdm-stuttgart)\, Gründungsberaterin an der Hochschule der Medien Stuttgart\, wenden. \nZur Anmeldung zum Online Demo Day hier.
URL:https://www.vc-magazin.de/event/the-migrant-accelerator-demo-day/
LOCATION:Online\, Deutschland
END:VEVENT
BEGIN:VEVENT
DTSTART;TZID=Europe/Berlin:20230928T100000
DTEND;TZID=Europe/Berlin:20230928T200000
DTSTAMP:20260420T220305
CREATED:20230822T094847Z
LAST-MODIFIED:20230822T095129Z
UID:72225-1695895200-1695931200@www.vc-magazin.de
SUMMARY:AgriTech Pitch Day 2023
DESCRIPTION:Hightech-Lösungen für eine nachhaltige Landwirtschaft – Jetzt bewerben! \nSie sind Agritech-Gründer und möchten Ihre Hightech-Lösungen für eine nachhaltige Landwirtschaft führenden Investoren und Unternehmensentscheidern vorstellen? \nDer AgriTech Pitch Day 2023 findet am 28. September im RootCamp in Hannover statt.\nNutzen Sie die Gelegenheit\, Ihre Technologie einem exklusiven Publikum aus Investoren\, Corporate VCs und Branchenexperten zu präsentieren! \nBewerben Sie sich bis zum 10. September – Registrieren Sie sich hier mit Ihren Unternehmensdaten und reichen Sie Ihr nicht-vertrauliches Pitch Deck ein.\nDiese Veranstaltung ist kostenlos und wird in englischer Sprache abgehalten. \nDie eingereichten Pitch Decks werden vom erfahrenen Investment-Team des HTGF gescreent. \nMehr Informationen und zur Registrierung hier.
URL:https://www.vc-magazin.de/event/agritech-pitch-day-2023/
LOCATION:Hannover\, Hannover\, Deutschland
ATTACH;FMTTYPE=image/png:https://www.vc-magazin.de/wp-content/uploads/2023/08/Agritech_VC-Mag_220px.png
END:VEVENT
END:VCALENDAR