BEGIN:VCALENDAR
VERSION:2.0
PRODID:-//VC Magazin - ECPv6.15.15//NONSGML v1.0//EN
CALSCALE:GREGORIAN
METHOD:PUBLISH
X-ORIGINAL-URL:https://www.vc-magazin.de
X-WR-CALDESC:Veranstaltungen für VC Magazin
REFRESH-INTERVAL;VALUE=DURATION:PT1H
X-Robots-Tag:noindex
X-PUBLISHED-TTL:PT1H
BEGIN:VTIMEZONE
TZID:Europe/Berlin
BEGIN:DAYLIGHT
TZOFFSETFROM:+0100
TZOFFSETTO:+0200
TZNAME:CEST
DTSTART:20220327T010000
END:DAYLIGHT
BEGIN:STANDARD
TZOFFSETFROM:+0200
TZOFFSETTO:+0100
TZNAME:CET
DTSTART:20221030T010000
END:STANDARD
BEGIN:DAYLIGHT
TZOFFSETFROM:+0100
TZOFFSETTO:+0200
TZNAME:CEST
DTSTART:20230326T010000
END:DAYLIGHT
BEGIN:STANDARD
TZOFFSETFROM:+0200
TZOFFSETTO:+0100
TZNAME:CET
DTSTART:20231029T010000
END:STANDARD
BEGIN:DAYLIGHT
TZOFFSETFROM:+0100
TZOFFSETTO:+0200
TZNAME:CEST
DTSTART:20240331T010000
END:DAYLIGHT
BEGIN:STANDARD
TZOFFSETFROM:+0200
TZOFFSETTO:+0100
TZNAME:CET
DTSTART:20241027T010000
END:STANDARD
END:VTIMEZONE
BEGIN:VEVENT
DTSTART;VALUE=DATE:20231011
DTEND;VALUE=DATE:20231013
DTSTAMP:20260420T202043
CREATED:20230414T113049Z
LAST-MODIFIED:20230502T113836Z
UID:71340-1696982400-1697155199@www.vc-magazin.de
SUMMARY:White Label Expo Europe 2023
DESCRIPTION:White Label World Expo Frankfurt is Europe’s leading online retail sourcing show with 350 innovative exhibitors showcasing the latest products\, services and technologies. The event is an unmissable opportunity for any forward-thinking online seller or entrepreneur to take their business to the next level! Taking place on the 11th & 12th of October 2023\, the Messe Frankfurt\, Germany\, will be transformed into the ultimate business networking event in Europe! \nWhite Label World Expo Frankfurt\nWhite Label World Expo Frankfurt will bring you the latest ecommerce industry trends and strategies in an exciting hub for retail\, to help you see exponential growth and success for your business.Thousands of visitors will be looking to source private label and white label products as well as branding and marketing solutions. Build relationships with new connections and join thousands of professionals looking to grow their business and increase\ntheir profits. \nAt the White Label Expo Frankfurt 2023 edition\, listen and learn from over 200 of our key industry experts\, who will equip you with the profound knowledge required for you to embark on your ecommerce endeavour! Gain tips on offers to stand out from the competition and boost your revenue. Not to mention\, we have highlighted 5 key sectors within ecommerce to ensure you have an all-encompassing understanding of the industry\, so make sure to visit the theatre you want to learn from! \nSecure your FREE ticket via the website! \nWhite Label World Expo Frankfurt
URL:https://www.vc-magazin.de/event/white-label-expo-europe-2023/
LOCATION:Messe Frankfurt\, Frankfurt a.M.\, Hessen\, Deutschland
END:VEVENT
BEGIN:VEVENT
DTSTART;VALUE=DATE:20231012
DTEND;VALUE=DATE:20231014
DTSTAMP:20260420T202043
CREATED:20230207T083941Z
LAST-MODIFIED:20230207T083941Z
UID:70718-1697068800-1697241599@www.vc-magazin.de
SUMMARY:herCareer-Expo
DESCRIPTION:Mehr Informationen folgen. \n  \nTickets hier.
URL:https://www.vc-magazin.de/event/hercareer-expo/
LOCATION:MOC München\, München\, Deutschland
END:VEVENT
BEGIN:VEVENT
DTSTART;VALUE=DATE:20231013
DTEND;VALUE=DATE:20231015
DTSTAMP:20260420T202043
CREATED:20230824T100752Z
LAST-MODIFIED:20230824T100819Z
UID:72244-1697155200-1697327999@www.vc-magazin.de
SUMMARY:deGUT
DESCRIPTION:Die deGUT ist nicht nur Deutschlands größte Messe für Gründertum – sie ist die Anlaufstelle für all diejenigen\, die sich kreativen Austausch mit einem vielfältigen Netzwerk wünschen. Teilnehmer:innen haben hier die Gelegenheit\, sich rund um die Themen Existenzgründung\, Unternehmensführung und -nachfolge\, Förderung und vieles mehr zu informieren. Zum 39. Mal öffnet die Arena Berlin am 13. und 14. Oktober 2023 die Pforten zur deGUT und lädt alle Interessierten zu spannenden Seminaren\, Paneltalks und individuellen Beratungsgesprächen ein. \nDie Aussteller der deGUT kommen aus sämtlichen Bereichen der Gründungs- und Unternehmensszene. \n\nWeit über 100 nationale und internationale Aussteller wie Banken\, Kammern\, Gründungsinitiativen\, Beratungsstellen\, Marketingfirmen uvm.\nThemen der Aussteller\, z. B. Förder- und Finanzierungsmöglichkeiten\, Steuern und Recht\, Marketing\, Unternehmensberatung\, Nachfolge\n\nDie Anmeldung für Aussteller\, Berater und Start-ups zur deGUT 2023 läuft! \nZur Anmeldung und für mehr Informationen hier. \ndeGUT
URL:https://www.vc-magazin.de/event/degut-2023/
LOCATION:Arena Berlin\, Eichenstraße 4\, Berlin\, 12435\, Deutschland
END:VEVENT
BEGIN:VEVENT
DTSTART;VALUE=DATE:20231017
DTEND;VALUE=DATE:20231020
DTSTAMP:20260420T202043
CREATED:20230320T125508Z
LAST-MODIFIED:20230320T125508Z
UID:71072-1697500800-1697759999@www.vc-magazin.de
SUMMARY:eMove360° Europe 2023
DESCRIPTION:7th International Trade Fair for Electric & Autonomous Mobility \nThe clear Focus is on charging & energy\, batterie technology\, automated driving and e-mobility in the commercial vehicle. These themes are also the main topics of the eMove360° Future Mobility Conference 2023\, the high tech conference\, in English language\, which takes place in parallel on all 3 day’s of the trade show. \nVisitor target groups are clearly focussed on technology and B2B. On one hand\, eMove360° addresses engineers\, IT experts and designers from the automotive and energy industry and\, on the other hand\, the entire range of professional users. These are primarily fleet managers\, transportation companies\, cities and communities\, sharing providers\, delivery services\, tourism companies\, electrical installers\, as well as parking lot\, service area and classic gas station operators. \nWith its various platforms – the trade show as the annual industry gathering\, the eMove360° Electric & Autonomous Mobility Award and the MATERIALICA Design + Technology Award\, the eMove360° magazine with online news portal\, the eMove360° Conferences as well as the eMove360° Club and the e-Monday networking events – eMove360° is the International marketplace for New Mobility. \nMore than 45% of the 5.500 visitors and 52% of the 200 exhibitors are International \nMore information here.
URL:https://www.vc-magazin.de/event/emove360-europe-2023/
LOCATION:Messe München\, Messegelände\, München\, 81823\, Deutschland
END:VEVENT
BEGIN:VEVENT
DTSTART;VALUE=DATE:20231017
DTEND;VALUE=DATE:20231019
DTSTAMP:20260420T202043
CREATED:20230712T124016Z
LAST-MODIFIED:20230712T124016Z
UID:71887-1697500800-1697673599@www.vc-magazin.de
SUMMARY:21. Deutscher Corporate M&A-Kongress 2023
DESCRIPTION:Der Krieg in der Ukraine\, die Sorge vor einer Eskalation des Konfliktes zwischen China und Taiwan\, die hohe Inflation und die amerikanische Wirtschaftspolitik in Folge des Inflation Reduction Acts; die deutsche Wirtschaft steht vor vielfältigen Herausforderungen. Wie beeinflussen diese den M&A-Markt? Was sind die Aussichten und Trends für 2024? \nDiese und viele weitere Themen stehen am 17. und 18. Oktober 2023 im Mittelpunkt des 21. Deutschen Corporate M&A-Kongresses. Nach einer coronabedingten Unterbrechung treffen sich bis zu 200 Teilnehmende aus Konzernen und dem gehobenen Mittelstand zum Austausch und zum Diskutieren; wieder an seinem traditionellen Standort\, dem Haus der Bayerischen Wirtschaft in München. Die Konferenz richtet sich exklusiv an Vorständ:innen\, Geschäftsführer:innen und M&A-Verantwortliche (Head of M&A\, Leiter Recht\, Leiter Business Development etc.) aus Konzernen und mittelständischen Unternehmen. \nZur Anmeldung hier.
URL:https://www.vc-magazin.de/event/21-deutscher-corporate-ma-kongress-2023/
LOCATION:hbw Haus der Bayerischen Wirtschaft\, ConferenceArea\, Europasaal\, Max-Joseph-Straße 5 \, München \, 80333 \, Deutschland
END:VEVENT
BEGIN:VEVENT
DTSTART;VALUE=DATE:20231018
DTEND;VALUE=DATE:20231020
DTSTAMP:20260420T202043
CREATED:20230505T120150Z
LAST-MODIFIED:20230505T120150Z
UID:71428-1697587200-1697759999@www.vc-magazin.de
SUMMARY:The Business Booster 2023
DESCRIPTION:The Business Booster is EIT InnoEnergy’s annual two-day international networking event that showcases 150+ sustainable energy technologies under one roof. \nMore information here.
URL:https://www.vc-magazin.de/event/the-business-booster-2023/
LOCATION:Amsterdam
END:VEVENT
BEGIN:VEVENT
DTSTART;VALUE=DATE:20231018
DTEND;VALUE=DATE:20231021
DTSTAMP:20260420T202043
CREATED:20230627T124507Z
LAST-MODIFIED:20230627T124507Z
UID:71809-1697587200-1697846399@www.vc-magazin.de
SUMMARY:0100 Conference Mediterranean 2023
DESCRIPTION:The place to be for PE & VC professionals investing in the Mediterranean region. \nBuild meaningful relationships with senior private equity and venture capital professionals in the Mediterranean. Network with fund managers\, investors and service provider to expand your opportunities in the region. \nAs a limited partner\, you’ll have: \n• Free access to the conference (subject to verification)\n• Access prearranged and on-demand LP meetings\n• Network exclusively with other LPs and decision-makers\n• Meet top performing and emerging GPs\n• Access to expert insights on key trends tailored for LPs\n• Attend an exclusive pre-conference VIP dinner for LPs \nMore information here: https://www.0100conferences.com/conferences/0100-conference-mediterranean \n 
URL:https://www.vc-magazin.de/event/0100-conference-mediterranean-2023/
LOCATION:Rom\, Rom\, Italien
END:VEVENT
BEGIN:VEVENT
DTSTART;VALUE=DATE:20231030
DTEND;VALUE=DATE:20231101
DTSTAMP:20260420T202043
CREATED:20230515T121451Z
LAST-MODIFIED:20230713T135438Z
UID:71479-1698624000-1698796799@www.vc-magazin.de
SUMMARY:AIM Summit 2023
DESCRIPTION:Established in 2015\, AIM Summit has quickly become the leading gathering for alternative investment management. The summit serves as a nexus for investors and managers from various sectors of the alternative investment industry\, including hedge funds\, private equity\, venture capital\, private debt\, digital assets\, and fintech\, to connect with global industry leaders. \nAIM Summit tries to aspire to cultivate a dynamic platform for discourse on investment developments\, global market conditions\, and the latest trends. Beyond serving as a networking forum for future business opportunities\, the aim is to foster meaningful conversations among industry peers to exchange best practices and innovative know-how. \nMore information and registration here.
URL:https://www.vc-magazin.de/event/aim-summit-2023/
LOCATION:Jumeirah Emirates Towers\, Sheikh Zayed Rd - Trade Centre - Trade Centre 2\, Dubai\, Vereinigte Arabische Emirate
ATTACH;FMTTYPE=image/png:https://www.vc-magazin.de/wp-content/uploads/2023/05/AIM-Summit-Logo.png
END:VEVENT
END:VCALENDAR