BEGIN:VCALENDAR
VERSION:2.0
PRODID:-//VC Magazin - ECPv6.15.15//NONSGML v1.0//EN
CALSCALE:GREGORIAN
METHOD:PUBLISH
X-ORIGINAL-URL:https://www.vc-magazin.de
X-WR-CALDESC:Veranstaltungen für VC Magazin
REFRESH-INTERVAL;VALUE=DURATION:PT1H
X-Robots-Tag:noindex
X-PUBLISHED-TTL:PT1H
BEGIN:VTIMEZONE
TZID:Europe/Berlin
BEGIN:DAYLIGHT
TZOFFSETFROM:+0100
TZOFFSETTO:+0200
TZNAME:CEST
DTSTART:20220327T010000
END:DAYLIGHT
BEGIN:STANDARD
TZOFFSETFROM:+0200
TZOFFSETTO:+0100
TZNAME:CET
DTSTART:20221030T010000
END:STANDARD
BEGIN:DAYLIGHT
TZOFFSETFROM:+0100
TZOFFSETTO:+0200
TZNAME:CEST
DTSTART:20230326T010000
END:DAYLIGHT
BEGIN:STANDARD
TZOFFSETFROM:+0200
TZOFFSETTO:+0100
TZNAME:CET
DTSTART:20231029T010000
END:STANDARD
BEGIN:DAYLIGHT
TZOFFSETFROM:+0100
TZOFFSETTO:+0200
TZNAME:CEST
DTSTART:20240331T010000
END:DAYLIGHT
BEGIN:STANDARD
TZOFFSETFROM:+0200
TZOFFSETTO:+0100
TZNAME:CET
DTSTART:20241027T010000
END:STANDARD
END:VTIMEZONE
BEGIN:VEVENT
DTSTART;VALUE=DATE:20231113
DTEND;VALUE=DATE:20231115
DTSTAMP:20260420T184357
CREATED:20221208T141027Z
LAST-MODIFIED:20230228T080846Z
UID:70244-1699833600-1700006399@www.vc-magazin.de
SUMMARY:World Class Digital Transformation & Innovation in Corporate America 2023
DESCRIPTION:Why attend? \n\nFace-to-face networking and knowledge sharing with thought-leaders of digital transformation and innovation fields from different geographical areas and industries\nLearn about the venture capital key topics and new trends to change your tools or processes\, and increase your competitive edge for your company\nMeet and network with like-minded people and industry peers through our Think Tank platform and develop real business opportunities\nBusiness roundtable discussions and one-on-one meetings allow digging deeper with the understanding of the topic of interest and create a rich networking environment\n\nThrough a mix of case-study presentations\, interactive roundtable discussions\, Q&A sessions and hands-on workshops\, you will gain inspiring perspectives. The multi-stream format allows you to move freely between the sessions. Create your own personal agenda from the case studies and interactive round tables. If you can’t participate in the conference onsite\, you have the possibility to get the insights of the decision-makers via live streaming. \n  \nRegister now! More information here.
URL:https://www.vc-magazin.de/event/wcbleaders-event-2023-portland/
LOCATION:Crowne Plaza Portland Downtown Convention Center\, Portland\, Oregon\, USA
END:VEVENT
BEGIN:VEVENT
DTSTART;VALUE=DATE:20231114
DTEND;VALUE=DATE:20231118
DTSTAMP:20260420T184357
CREATED:20230714T094010Z
LAST-MODIFIED:20230925T081515Z
UID:71926-1699920000-1700265599@www.vc-magazin.de
SUMMARY:SuperInvestor 2023
DESCRIPTION:A new home for SuperInvestor\nSuperInvestor has a new\, bigger and better home for 2023 – the Hyatt Regency Zurich Airport The Circle. \nEnjoy more networking space\, more private rooms for one-to-one meetings and the chance to network with a record number of attendees at SuperInvestor. \nMix with even more LPs and GPs from the Swiss ecosystem\, as well as from the rest of Europe\, USA and beyond. \nMeet the leading names in private capital\nConnect with 1\,800+ senior decision makers from 50+ countries\, including 550+ LPs and 900+ GPs. \nBuild new partnerships with international LPs and private capital&#39;s most influential and fastest-growing firms. \nNetwork with Ardian\, EQT\, General Atlantic\, Ontario Teachers‘ Pension Plan\, USS Investment Management\, Zurich Insurance Group and more. \n10% discount – VIP code: FKR2669VCM \nMore information here.
URL:https://www.vc-magazin.de/event/superinvestor-2023/
LOCATION:Hyatt Regency Zurich Airport The Circle & The Circle Convention Center\, Zurich\, Zürich\, Schweiz
ATTACH;FMTTYPE=image/jpeg:https://www.vc-magazin.de/wp-content/uploads/2023/07/SI-VC-Magazine-banner-300x156-copy.jpg
END:VEVENT
END:VCALENDAR