BEGIN:VCALENDAR
VERSION:2.0
PRODID:-//VC Magazin - ECPv6.15.15//NONSGML v1.0//EN
CALSCALE:GREGORIAN
METHOD:PUBLISH
X-WR-CALNAME:VC Magazin
X-ORIGINAL-URL:https://www.vc-magazin.de
X-WR-CALDESC:Veranstaltungen für VC Magazin
REFRESH-INTERVAL;VALUE=DURATION:PT1H
X-Robots-Tag:noindex
X-PUBLISHED-TTL:PT1H
BEGIN:VTIMEZONE
TZID:Europe/Berlin
BEGIN:DAYLIGHT
TZOFFSETFROM:+0100
TZOFFSETTO:+0200
TZNAME:CEST
DTSTART:20250330T010000
END:DAYLIGHT
BEGIN:STANDARD
TZOFFSETFROM:+0200
TZOFFSETTO:+0100
TZNAME:CET
DTSTART:20251026T010000
END:STANDARD
BEGIN:DAYLIGHT
TZOFFSETFROM:+0100
TZOFFSETTO:+0200
TZNAME:CEST
DTSTART:20260329T010000
END:DAYLIGHT
BEGIN:STANDARD
TZOFFSETFROM:+0200
TZOFFSETTO:+0100
TZNAME:CET
DTSTART:20261025T010000
END:STANDARD
BEGIN:DAYLIGHT
TZOFFSETFROM:+0100
TZOFFSETTO:+0200
TZNAME:CEST
DTSTART:20270328T010000
END:DAYLIGHT
BEGIN:STANDARD
TZOFFSETFROM:+0200
TZOFFSETTO:+0100
TZNAME:CET
DTSTART:20271031T010000
END:STANDARD
END:VTIMEZONE
BEGIN:VEVENT
DTSTART;VALUE=DATE:20260318
DTEND;VALUE=DATE:20260319
DTSTAMP:20260419T182709
CREATED:20260218T161038Z
LAST-MODIFIED:20260218T161121Z
UID:81132-1773792000-1773878399@www.vc-magazin.de
SUMMARY:U.S. Entry Meetings | Köln
DESCRIPTION:Bildnachweis: GATA. \nFür Firmen\, die einen Markteintritt in Betracht ziehen\, werden am 18. März 2026 in Köln Themen wie Firmengründung\, Arbeitsrecht\, Schutz vor Produkthaftung etc. behandelt. \nUnter anderem auf der Agenda: Firmengründung\, Vertragliche Aspekte\, Vertriebsstruktur & Reps Rekrutierung\, Executive Search\, Visa & Work Permits\, Marketing & Vertrieb in den USA und mehr! \nJetzt hier anmelden!
URL:https://www.vc-magazin.de/event/u-s-entry-meetings-koeln-2026/
LOCATION:Köln
ATTACH;FMTTYPE=image/jpeg:https://www.vc-magazin.de/wp-content/uploads/2026/02/GATA_Meetings-2026-Termine_1200x628.jpg
END:VEVENT
END:VCALENDAR