BEGIN:VCALENDAR
VERSION:2.0
PRODID:-//VC Magazin - ECPv6.15.15//NONSGML v1.0//EN
CALSCALE:GREGORIAN
METHOD:PUBLISH
X-ORIGINAL-URL:https://www.vc-magazin.de
X-WR-CALDESC:Veranstaltungen für VC Magazin
REFRESH-INTERVAL;VALUE=DURATION:PT1H
X-Robots-Tag:noindex
X-PUBLISHED-TTL:PT1H
BEGIN:VTIMEZONE
TZID:Europe/Berlin
BEGIN:DAYLIGHT
TZOFFSETFROM:+0100
TZOFFSETTO:+0200
TZNAME:CEST
DTSTART:20230326T010000
END:DAYLIGHT
BEGIN:STANDARD
TZOFFSETFROM:+0200
TZOFFSETTO:+0100
TZNAME:CET
DTSTART:20231029T010000
END:STANDARD
BEGIN:DAYLIGHT
TZOFFSETFROM:+0100
TZOFFSETTO:+0200
TZNAME:CEST
DTSTART:20240331T010000
END:DAYLIGHT
BEGIN:STANDARD
TZOFFSETFROM:+0200
TZOFFSETTO:+0100
TZNAME:CET
DTSTART:20241027T010000
END:STANDARD
BEGIN:DAYLIGHT
TZOFFSETFROM:+0100
TZOFFSETTO:+0200
TZNAME:CEST
DTSTART:20250330T010000
END:DAYLIGHT
BEGIN:STANDARD
TZOFFSETFROM:+0200
TZOFFSETTO:+0100
TZNAME:CET
DTSTART:20251026T010000
END:STANDARD
END:VTIMEZONE
BEGIN:VEVENT
DTSTART;VALUE=DATE:20240119
DTEND;VALUE=DATE:20240122
DTSTAMP:20260421T000635
CREATED:20230419T094702Z
LAST-MODIFIED:20230419T094702Z
UID:71355-1705622400-1705881599@www.vc-magazin.de
SUMMARY:Karrierestart 2024
DESCRIPTION:Vom 19. – 21. Januar 2024 findet die KarriereStart – Die Messe für Bildung\, Job und Gründung in Sachsen – zum 25. Mal statt. \nDie KarriereStart – Die Messe für Bildung\, Job und Gründung in Sachsen – verzeichnete 2023 einen großartigen Erfolg und konnte an das Vor-Corona-Niveau anknüpfen. 541 Aussteller stellten sich in ausgebuchten Hallen auf 20.000 m2 Ausstellungsfläche vor. 36.200 Besucher besuchten die Messe. \nDie Messe vereint die verschiedenen arbeitsmarktrelevanten Themenbereiche unter einem Dach. Sie bietet sowohl Schülern und Auszubildenden als auch Berufsstartern\, Profis\, Quer- und Wiedereinsteigern an drei Tagen vielfältige Gesprächs- und Bewerbungsmöglichkeiten zur beruflichen Planung in jeder Bildungs- und Karrierephase. \nStarke\, kompetente Partner unterstützen uns seit vielen Jahren bei der Planung. Diese enge Zusammenarbeit sichert die Aktualität und das hohe Niveau der Bildungs- und Arbeitsmarktthemen. \nMehr Informationen hier.
URL:https://www.vc-magazin.de/event/karrierestart-2024/
LOCATION:Messe Dresden\, Zur Messe\, Dresden\, 01067
END:VEVENT
END:VCALENDAR