BEGIN:VCALENDAR
VERSION:2.0
PRODID:-//VC Magazin - ECPv6.15.15//NONSGML v1.0//EN
CALSCALE:GREGORIAN
METHOD:PUBLISH
X-WR-CALNAME:VC Magazin
X-ORIGINAL-URL:https://www.vc-magazin.de
X-WR-CALDESC:Veranstaltungen für VC Magazin
REFRESH-INTERVAL;VALUE=DURATION:PT1H
X-Robots-Tag:noindex
X-PUBLISHED-TTL:PT1H
BEGIN:VTIMEZONE
TZID:Europe/Berlin
BEGIN:DAYLIGHT
TZOFFSETFROM:+0100
TZOFFSETTO:+0200
TZNAME:CEST
DTSTART:20240331T010000
END:DAYLIGHT
BEGIN:STANDARD
TZOFFSETFROM:+0200
TZOFFSETTO:+0100
TZNAME:CET
DTSTART:20241027T010000
END:STANDARD
BEGIN:DAYLIGHT
TZOFFSETFROM:+0100
TZOFFSETTO:+0200
TZNAME:CEST
DTSTART:20250330T010000
END:DAYLIGHT
BEGIN:STANDARD
TZOFFSETFROM:+0200
TZOFFSETTO:+0100
TZNAME:CET
DTSTART:20251026T010000
END:STANDARD
BEGIN:DAYLIGHT
TZOFFSETFROM:+0100
TZOFFSETTO:+0200
TZNAME:CEST
DTSTART:20260329T010000
END:DAYLIGHT
BEGIN:STANDARD
TZOFFSETFROM:+0200
TZOFFSETTO:+0100
TZNAME:CET
DTSTART:20261025T010000
END:STANDARD
END:VTIMEZONE
BEGIN:VEVENT
DTSTART;VALUE=DATE:20251126
DTEND;VALUE=DATE:20251128
DTSTAMP:20260419T162356
CREATED:20250310T083846Z
LAST-MODIFIED:20250310T083847Z
UID:77189-1764115200-1764287999@www.vc-magazin.de
SUMMARY:Impact Festival 2025
DESCRIPTION:Das Impact Festival ist Europas größtes B2B-Event für nachhaltige Innovation und verbindet Nachhaltigkeitslösungen mit Unternehmen und Investoren\, um die wirtschaftliche Transformation zu beschleunigen. \n\n\n\nOb Start-ups und Kleinunternehmen\, die transformative Technologien entwickeln\, Unternehmen\, die ihre Wertschöpfung nachhaltiger gestalten möchten\, oder Investoren\, die in wirkungsvolle Innovationen investieren – das Event bringt die richtigen Akteure zusammen. \nEindrücke aus den vergangenen Jahren finden Sie hier: 2022\, 2023 & 2024.
URL:https://www.vc-magazin.de/event/impact-festival-2025/
LOCATION:Messe Frankfurt\, Frankfurt a.M.\, Hessen\, Deutschland
END:VEVENT
END:VCALENDAR