BEGIN:VCALENDAR
VERSION:2.0
PRODID:-//VC Magazin - ECPv6.15.15//NONSGML v1.0//EN
CALSCALE:GREGORIAN
METHOD:PUBLISH
X-ORIGINAL-URL:https://www.vc-magazin.de
X-WR-CALDESC:Veranstaltungen für VC Magazin
REFRESH-INTERVAL;VALUE=DURATION:PT1H
X-Robots-Tag:noindex
X-PUBLISHED-TTL:PT1H
BEGIN:VTIMEZONE
TZID:Europe/Berlin
BEGIN:DAYLIGHT
TZOFFSETFROM:+0100
TZOFFSETTO:+0200
TZNAME:CEST
DTSTART:20220327T010000
END:DAYLIGHT
BEGIN:STANDARD
TZOFFSETFROM:+0200
TZOFFSETTO:+0100
TZNAME:CET
DTSTART:20221030T010000
END:STANDARD
BEGIN:DAYLIGHT
TZOFFSETFROM:+0100
TZOFFSETTO:+0200
TZNAME:CEST
DTSTART:20230326T010000
END:DAYLIGHT
BEGIN:STANDARD
TZOFFSETFROM:+0200
TZOFFSETTO:+0100
TZNAME:CET
DTSTART:20231029T010000
END:STANDARD
BEGIN:DAYLIGHT
TZOFFSETFROM:+0100
TZOFFSETTO:+0200
TZNAME:CEST
DTSTART:20240331T010000
END:DAYLIGHT
BEGIN:STANDARD
TZOFFSETFROM:+0200
TZOFFSETTO:+0100
TZNAME:CET
DTSTART:20241027T010000
END:STANDARD
END:VTIMEZONE
BEGIN:VEVENT
DTSTART;TZID=Europe/Berlin:20230606T160000
DTEND;TZID=Europe/Berlin:20230606T170000
DTSTAMP:20260421T191621
CREATED:20230601T135646Z
LAST-MODIFIED:20230601T135646Z
UID:71600-1686067200-1686070800@www.vc-magazin.de
SUMMARY:Webinar für InvestorInnen: Auf Wachstumserfolg aufbauen
DESCRIPTION:Bildnachweis: VC Magazin. \nSinga modernisiert Karaoke weltweit und startet eine Finanzierungskampagne bei Invesdor\, um den Erfolg in Nordamerika weiter auszubauen. In dem bevorstehenden Webinar werden Singa-CEO Atte Hujanen und COO Nils Paajanen von Mustafa Mor interviewt. Mor ist der Mitbegründer von Growstage\, einem Wachstumsstrategie-Unternehmen mit Sitz in Stuttgart. \nDas Webinar findet am Dienstag\, den 6. Juni\, von 16:00-16:45 Uhr (CEST) über Zoom statt. \nSie können Ihre Fragen auf Deutsch oder Englisch im Vorfeld über das Anmeldeformular oder über das Q&A-Tool während des Webinars stellen. \nZur Agenda und zur Anmeldung hier.
URL:https://www.vc-magazin.de/event/webinar-fuer-investorinnen-auf-wachstumserfolg-aufbauen/
LOCATION:Online\, Deutschland
END:VEVENT
BEGIN:VEVENT
DTSTART;VALUE=DATE:20230622
DTEND;VALUE=DATE:20230623
DTSTAMP:20260421T191621
CREATED:20230601T133215Z
LAST-MODIFIED:20230608T080200Z
UID:71598-1687392000-1687478399@www.vc-magazin.de
SUMMARY:EXPO 2023
DESCRIPTION:Bildnachweis: VC Magazin. \nSTARTUP AUTOBAHN is the ultimate innovation platform that unites global young tech companies with the unrivalled tech expertise of Silicon Valley and the best of German engineering. Based in Stuttgart\, Germany. \nThe EXPO2023 brings innovative startups and companies like Mercedes-Benz\, Porsche\, Bosch\, Webasto\, DXC Technology\, ZF\, Schäffler\, Hyundai together. \nMore information here.
URL:https://www.vc-magazin.de/event/startup-autobahn-expo-2023/
LOCATION:Wagenhallen (Innerer Nordbahnhof)\, Stuttgart\, Baden-Württemberg\, Deutschland
ATTACH;FMTTYPE=image/png:https://www.vc-magazin.de/wp-content/uploads/2023/06/EXPO2023_Startup_Autobahn.png
END:VEVENT
END:VCALENDAR