BEGIN:VCALENDAR
VERSION:2.0
PRODID:-//VC Magazin - ECPv6.15.15//NONSGML v1.0//EN
CALSCALE:GREGORIAN
METHOD:PUBLISH
X-ORIGINAL-URL:https://www.vc-magazin.de
X-WR-CALDESC:Veranstaltungen für VC Magazin
REFRESH-INTERVAL;VALUE=DURATION:PT1H
X-Robots-Tag:noindex
X-PUBLISHED-TTL:PT1H
BEGIN:VTIMEZONE
TZID:Europe/Berlin
BEGIN:DAYLIGHT
TZOFFSETFROM:+0100
TZOFFSETTO:+0200
TZNAME:CEST
DTSTART:20250330T010000
END:DAYLIGHT
BEGIN:STANDARD
TZOFFSETFROM:+0200
TZOFFSETTO:+0100
TZNAME:CET
DTSTART:20251026T010000
END:STANDARD
BEGIN:DAYLIGHT
TZOFFSETFROM:+0100
TZOFFSETTO:+0200
TZNAME:CEST
DTSTART:20260329T010000
END:DAYLIGHT
BEGIN:STANDARD
TZOFFSETFROM:+0200
TZOFFSETTO:+0100
TZNAME:CET
DTSTART:20261025T010000
END:STANDARD
BEGIN:DAYLIGHT
TZOFFSETFROM:+0100
TZOFFSETTO:+0200
TZNAME:CEST
DTSTART:20270328T010000
END:DAYLIGHT
BEGIN:STANDARD
TZOFFSETFROM:+0200
TZOFFSETTO:+0100
TZNAME:CET
DTSTART:20271031T010000
END:STANDARD
END:VTIMEZONE
BEGIN:VEVENT
DTSTART;TZID=Europe/Berlin:20260202T120000
DTEND;TZID=Europe/Berlin:20260202T200000
DTSTAMP:20260419T161942
CREATED:20260128T162815Z
LAST-MODIFIED:20260128T162949Z
UID:80899-1770033600-1770062400@www.vc-magazin.de
SUMMARY:PrivateMarkets_One 2026
DESCRIPTION:Bildnachweis: VC Magazin. \nNach dem Erfolg der Premiere im vergangenen Jahr mit 250+ Investment-Entscheidern und Speakern von DWS\, Deutsche Börse\, KfW Capital\, Ardian\, Commerzbank\, Liquid\, HQ Trust\, High-Tech Gründerfonds und vielen mehr\, wird die Konferenz als zentrale Plattform\, die internationale und nationale Investoren in Wachstumsunternehmen und Zukunftstechnologien entlang der gesamten Finanzierungskette vernetzt\, positioniert. \nDie PrivateMarkets_One bringt damit die gesamte Finanzierungskette zusammen: Private Equity\, Venture Capital\, Family Offices\, institutionelle Investoren\, Corporate VCs und Unternehmer und fokussiert sich auf die strategischen Fragen\, die Europas Wettbewerbsfähigkeit in den kommenden Jahren prägen werden. \nHighlights 2026: \nOpening Keynote: Dr. Peter Brodehser (DWS Group & Vorstand BAI) \n5 hochkarätige Panels: \n\nBuilding New European Champions – mit CEOs von IQM (Quantum Computing) und Marvel Fusion (Laser Fusion)\nLeveraging Public Initiatives with Private Debt\nFrankfurt’s Infrastructure & Ecosystem Play für Sovereign AI\nMobilizing Corporate Capital to fuel Innovation\nLimited Partner Strategies für Family Offices & institutionelle Investoren\n\nSpeaker u.a. von: Deutsche Börse\, DWS Group\, HQ Trust\, Verdane\, CommerzVentures\, Segenia Capital\, P Capital Partners\, KfW Capital\, Mastercard\, IQM\, Marvel Fusion\, Gilion\, FERI AG! \nMehr Informationen finden Sie hier! \nZur Registrierung hier klicken!
URL:https://www.vc-magazin.de/event/privatemarkets_one-2026/
LOCATION:Frankfurt School of Finance & Management\, Sonnemannstraße 9-11 \, Frankfurt am Main\, 60314   \, Deutschland
END:VEVENT
BEGIN:VEVENT
DTSTART;VALUE=DATE:20260203
DTEND;VALUE=DATE:20260206
DTSTAMP:20260419T161942
CREATED:20260127T162649Z
LAST-MODIFIED:20260127T162649Z
UID:80871-1770076800-1770335999@www.vc-magazin.de
SUMMARY:IPEM Wealth 2026
DESCRIPTION:Bildnachweis: VC Magazin. \nFrom February 3 to 5\, 2026\, the iconic French Riviera will host the 2nd edition of IPEM Wealth\, the leading global event at the crossroads of private markets and wealth management. \nAt the Palais des Festivals in Cannes\, 3\,800+ delegates — including 500+ LPs\, 500+ GPs\, and 250+ Family Offices — will gather for 3 days of insights\, connections\, and opportunities. \nHighlights include the IPEM Wealth Awards\, high-level conferences\, targeted summits\, and exclusive networking events designed to accelerate the democratization of private markets and connect private capital with wealth investors. \nMore information here!
URL:https://www.vc-magazin.de/event/ipem-wealth-2026/
LOCATION:Cannes Palais des Festivals\, 1 Boulevard de la Croisette\, Cannes\, 06400
END:VEVENT
END:VCALENDAR