BEGIN:VCALENDAR
VERSION:2.0
PRODID:-//VC Magazin - ECPv6.15.15//NONSGML v1.0//EN
CALSCALE:GREGORIAN
METHOD:PUBLISH
X-ORIGINAL-URL:https://www.vc-magazin.de
X-WR-CALDESC:Veranstaltungen für VC Magazin
REFRESH-INTERVAL;VALUE=DURATION:PT1H
X-Robots-Tag:noindex
X-PUBLISHED-TTL:PT1H
BEGIN:VTIMEZONE
TZID:Europe/Berlin
BEGIN:DAYLIGHT
TZOFFSETFROM:+0100
TZOFFSETTO:+0200
TZNAME:CEST
DTSTART:20240331T010000
END:DAYLIGHT
BEGIN:STANDARD
TZOFFSETFROM:+0200
TZOFFSETTO:+0100
TZNAME:CET
DTSTART:20241027T010000
END:STANDARD
BEGIN:DAYLIGHT
TZOFFSETFROM:+0100
TZOFFSETTO:+0200
TZNAME:CEST
DTSTART:20250330T010000
END:DAYLIGHT
BEGIN:STANDARD
TZOFFSETFROM:+0200
TZOFFSETTO:+0100
TZNAME:CET
DTSTART:20251026T010000
END:STANDARD
BEGIN:DAYLIGHT
TZOFFSETFROM:+0100
TZOFFSETTO:+0200
TZNAME:CEST
DTSTART:20260329T010000
END:DAYLIGHT
BEGIN:STANDARD
TZOFFSETFROM:+0200
TZOFFSETTO:+0100
TZNAME:CET
DTSTART:20261025T010000
END:STANDARD
END:VTIMEZONE
BEGIN:VEVENT
DTSTART;VALUE=DATE:20251105
DTEND;VALUE=DATE:20251106
DTSTAMP:20260419T224857
CREATED:20250612T151826Z
LAST-MODIFIED:20250612T151826Z
UID:78203-1762300800-1762387199@www.vc-magazin.de
SUMMARY:Startupland Conference
DESCRIPTION:Bildnachweis: GATA. \nAm 5. November 2025 findet die zweite Ausgabe der Startupland Conference im RheinEnergieSTADION in Köln statt. Nach der erfolgreichen Premiere im vergangenen Jahr bringt die von deutsche-startups.de initiierte Konferenz erneut die deutsche und internationale Startup- und VC-Szene zusammen – für Austausch\, Inspiration und zum Netzwerken. \nErwartet werden wieder mehr als  1.000 Teilnehmer:innen\, darunter Gründer:innen\, Investor:innen\, Corporate-Innovator:innen und Medienvertreter:innen. Das Programm bietet auf mehreren Bühnen Keynotes\, Panels\, Pitches und praxisorientierte Workshops zu aktuellen Trends\, Technologien und Erfolgsmodellen im Startup-Ökosystem. \nSpeaker-Highlights 2025: Von Gründern für Gründer \nAuch 2025 kommen prominente Stimmen der Tech-\, Gründer- und Investoren-Szene nach Köln\, darunter: \n\n\nMario Kohle\, Gründer des Greentech Unicorns Enpal \n\n\nSievert Weiss\, Mitgründer von Amboss\n\n\nMarlena Hien und Laurence Saunier\, Gründerinnen von Bears with Benefits\n\n\nFrank Wolf\, Mitgründer von Staffbase \n\n\nInsgesamt werden über 50 Speaker aus dem deutschen und europäischen Tech- und Startup-Ökosystem erwartet\, die Einblicke teilen und aktuelle Themen und Trends diskutieren. \nEin besonderer Schwerpunkt der diesjährigen Startupland Konferenz liegt auf der praktischen Anwendung von Künstlicher Intelligenz (KI) – in Startups\, im VC-Bereich und in Unternehmen. Besucher:innen erwartet Input zu Use Cases\, Investitionen-Trends und konkreten Kooperationsansätzen für Startups und etablierten Unternehmen. \nMehr Informationen hier!
URL:https://www.vc-magazin.de/event/startupland-conference-2025/
LOCATION:Köln
END:VEVENT
END:VCALENDAR