BEGIN:VCALENDAR
VERSION:2.0
PRODID:-//VC Magazin - ECPv6.15.15//NONSGML v1.0//EN
CALSCALE:GREGORIAN
METHOD:PUBLISH
X-ORIGINAL-URL:https://www.vc-magazin.de
X-WR-CALDESC:Veranstaltungen für VC Magazin
REFRESH-INTERVAL;VALUE=DURATION:PT1H
X-Robots-Tag:noindex
X-PUBLISHED-TTL:PT1H
BEGIN:VTIMEZONE
TZID:Europe/Berlin
BEGIN:DAYLIGHT
TZOFFSETFROM:+0100
TZOFFSETTO:+0200
TZNAME:CEST
DTSTART:20220327T010000
END:DAYLIGHT
BEGIN:STANDARD
TZOFFSETFROM:+0200
TZOFFSETTO:+0100
TZNAME:CET
DTSTART:20221030T010000
END:STANDARD
BEGIN:DAYLIGHT
TZOFFSETFROM:+0100
TZOFFSETTO:+0200
TZNAME:CEST
DTSTART:20230326T010000
END:DAYLIGHT
BEGIN:STANDARD
TZOFFSETFROM:+0200
TZOFFSETTO:+0100
TZNAME:CET
DTSTART:20231029T010000
END:STANDARD
BEGIN:DAYLIGHT
TZOFFSETFROM:+0100
TZOFFSETTO:+0200
TZNAME:CEST
DTSTART:20240331T010000
END:DAYLIGHT
BEGIN:STANDARD
TZOFFSETFROM:+0200
TZOFFSETTO:+0100
TZNAME:CET
DTSTART:20241027T010000
END:STANDARD
END:VTIMEZONE
BEGIN:VEVENT
DTSTART;TZID=Europe/Berlin:20230315T173000
DTEND;TZID=Europe/Berlin:20230315T203000
DTSTAMP:20260423T020901
CREATED:20230216T085542Z
LAST-MODIFIED:20230228T083242Z
UID:70803-1678901400-1678912200@www.vc-magazin.de
SUMMARY:PITSTOP@EnergyVentures
DESCRIPTION:What to expect?\nStartup pitches\, networking in a relaxed atmosphere\, snacks and drinks at the BayWa r.e. headquarters in Munich.\n\n  \n\nWhy?\nEither Zoom calls or start-up/investor speed-dating – that’s the day-to-day reality we suddenly found ourselves in. We missed informal face-to face conversations so much\, that we decided to create a platform for such meetings for the Munich ecosystem of start-ups\, investors and industry experts.\n\nIn 2023 the event will take place 3 times: \n\nMarch 15\nJune 28\nOctober 25\n\nMore information here.
URL:https://www.vc-magazin.de/event/pitstop-energyventures/
LOCATION:Barista Bar\, Arabellastraße 4\, München\, Bayern\, 81925\, Deutschland
ATTACH;FMTTYPE=image/jpeg:https://www.vc-magazin.de/wp-content/uploads/2023/02/image001.jpg
END:VEVENT
BEGIN:VEVENT
DTSTART;TZID=Europe/Berlin:20230330T170000
DTEND;TZID=Europe/Berlin:20230330T183000
DTSTAMP:20260423T020901
CREATED:20230315T135015Z
LAST-MODIFIED:20230315T135601Z
UID:71011-1680195600-1680201000@www.vc-magazin.de
SUMMARY:Fireside Chat
DESCRIPTION:Road to Success for German Tech Startups\nAm 30.03.2023 findet in den Räumen der Weitnauer Rechtsanwälte der Fireside Chat statt. Von 17:00-18:30 Uhr (anschließend Networking bei Drinks und Buffet) erwartet Sie eine prominent besetzte Diskussionsrunde. \nFireside Chat für Gründer mit:\n• Heiko Schwarz\, Co-Founder\, riskmethods\n• Rolf Zimmer\, Co-Founder\, riskmethods\n• Dominik Hertzler\, Principal\, Yttrium\n• Andreas Hering\, Partner & Head of Munich\, Clipperton\n• Benedikt Mahr\, Managing Partner\, Weitnauer \nAnmeldungen bis zum 27.03.2023 an: muenchen@weitnauer.net
URL:https://www.vc-magazin.de/event/fireside-chat-weitnauer/
LOCATION:Kanzlei Weitnauer\, Ohmstraße 22\, München\, Bayern\, 80802\, Deutschland
ATTACH;FMTTYPE=image/png:https://www.vc-magazin.de/wp-content/uploads/2023/03/weitnauer_fireside_chat.png
END:VEVENT
END:VCALENDAR