BEGIN:VCALENDAR
VERSION:2.0
PRODID:-//VC Magazin - ECPv6.15.15//NONSGML v1.0//EN
CALSCALE:GREGORIAN
METHOD:PUBLISH
X-ORIGINAL-URL:https://www.vc-magazin.de
X-WR-CALDESC:Veranstaltungen für VC Magazin
REFRESH-INTERVAL;VALUE=DURATION:PT1H
X-Robots-Tag:noindex
X-PUBLISHED-TTL:PT1H
BEGIN:VTIMEZONE
TZID:Europe/Berlin
BEGIN:DAYLIGHT
TZOFFSETFROM:+0100
TZOFFSETTO:+0200
TZNAME:CEST
DTSTART:20220327T010000
END:DAYLIGHT
BEGIN:STANDARD
TZOFFSETFROM:+0200
TZOFFSETTO:+0100
TZNAME:CET
DTSTART:20221030T010000
END:STANDARD
BEGIN:DAYLIGHT
TZOFFSETFROM:+0100
TZOFFSETTO:+0200
TZNAME:CEST
DTSTART:20230326T010000
END:DAYLIGHT
BEGIN:STANDARD
TZOFFSETFROM:+0200
TZOFFSETTO:+0100
TZNAME:CET
DTSTART:20231029T010000
END:STANDARD
BEGIN:DAYLIGHT
TZOFFSETFROM:+0100
TZOFFSETTO:+0200
TZNAME:CEST
DTSTART:20240331T010000
END:DAYLIGHT
BEGIN:STANDARD
TZOFFSETFROM:+0200
TZOFFSETTO:+0100
TZNAME:CET
DTSTART:20241027T010000
END:STANDARD
END:VTIMEZONE
BEGIN:VEVENT
DTSTART;VALUE=DATE:20231012
DTEND;VALUE=DATE:20231014
DTSTAMP:20260422T151829
CREATED:20230207T083941Z
LAST-MODIFIED:20230207T083941Z
UID:70718-1697068800-1697241599@www.vc-magazin.de
SUMMARY:herCareer-Expo
DESCRIPTION:Mehr Informationen folgen. \n  \nTickets hier.
URL:https://www.vc-magazin.de/event/hercareer-expo/
LOCATION:MOC München\, München\, Deutschland
END:VEVENT
BEGIN:VEVENT
DTSTART;VALUE=DATE:20231017
DTEND;VALUE=DATE:20231020
DTSTAMP:20260422T151829
CREATED:20230320T125508Z
LAST-MODIFIED:20230320T125508Z
UID:71072-1697500800-1697759999@www.vc-magazin.de
SUMMARY:eMove360° Europe 2023
DESCRIPTION:7th International Trade Fair for Electric & Autonomous Mobility \nThe clear Focus is on charging & energy\, batterie technology\, automated driving and e-mobility in the commercial vehicle. These themes are also the main topics of the eMove360° Future Mobility Conference 2023\, the high tech conference\, in English language\, which takes place in parallel on all 3 day’s of the trade show. \nVisitor target groups are clearly focussed on technology and B2B. On one hand\, eMove360° addresses engineers\, IT experts and designers from the automotive and energy industry and\, on the other hand\, the entire range of professional users. These are primarily fleet managers\, transportation companies\, cities and communities\, sharing providers\, delivery services\, tourism companies\, electrical installers\, as well as parking lot\, service area and classic gas station operators. \nWith its various platforms – the trade show as the annual industry gathering\, the eMove360° Electric & Autonomous Mobility Award and the MATERIALICA Design + Technology Award\, the eMove360° magazine with online news portal\, the eMove360° Conferences as well as the eMove360° Club and the e-Monday networking events – eMove360° is the International marketplace for New Mobility. \nMore than 45% of the 5.500 visitors and 52% of the 200 exhibitors are International \nMore information here.
URL:https://www.vc-magazin.de/event/emove360-europe-2023/
LOCATION:Messe München\, Messegelände\, München\, 81823\, Deutschland
END:VEVENT
BEGIN:VEVENT
DTSTART;VALUE=DATE:20231017
DTEND;VALUE=DATE:20231019
DTSTAMP:20260422T151829
CREATED:20230712T124016Z
LAST-MODIFIED:20230712T124016Z
UID:71887-1697500800-1697673599@www.vc-magazin.de
SUMMARY:21. Deutscher Corporate M&A-Kongress 2023
DESCRIPTION:Der Krieg in der Ukraine\, die Sorge vor einer Eskalation des Konfliktes zwischen China und Taiwan\, die hohe Inflation und die amerikanische Wirtschaftspolitik in Folge des Inflation Reduction Acts; die deutsche Wirtschaft steht vor vielfältigen Herausforderungen. Wie beeinflussen diese den M&A-Markt? Was sind die Aussichten und Trends für 2024? \nDiese und viele weitere Themen stehen am 17. und 18. Oktober 2023 im Mittelpunkt des 21. Deutschen Corporate M&A-Kongresses. Nach einer coronabedingten Unterbrechung treffen sich bis zu 200 Teilnehmende aus Konzernen und dem gehobenen Mittelstand zum Austausch und zum Diskutieren; wieder an seinem traditionellen Standort\, dem Haus der Bayerischen Wirtschaft in München. Die Konferenz richtet sich exklusiv an Vorständ:innen\, Geschäftsführer:innen und M&A-Verantwortliche (Head of M&A\, Leiter Recht\, Leiter Business Development etc.) aus Konzernen und mittelständischen Unternehmen. \nZur Anmeldung hier.
URL:https://www.vc-magazin.de/event/21-deutscher-corporate-ma-kongress-2023/
LOCATION:hbw Haus der Bayerischen Wirtschaft\, ConferenceArea\, Europasaal\, Max-Joseph-Straße 5 \, München \, 80333 \, Deutschland
END:VEVENT
END:VCALENDAR