BEGIN:VCALENDAR
VERSION:2.0
PRODID:-//VC Magazin - ECPv6.15.15//NONSGML v1.0//EN
CALSCALE:GREGORIAN
METHOD:PUBLISH
X-ORIGINAL-URL:https://www.vc-magazin.de
X-WR-CALDESC:Veranstaltungen für VC Magazin
REFRESH-INTERVAL;VALUE=DURATION:PT1H
X-Robots-Tag:noindex
X-PUBLISHED-TTL:PT1H
BEGIN:VTIMEZONE
TZID:Europe/Berlin
BEGIN:DAYLIGHT
TZOFFSETFROM:+0100
TZOFFSETTO:+0200
TZNAME:CEST
DTSTART:20240331T010000
END:DAYLIGHT
BEGIN:STANDARD
TZOFFSETFROM:+0200
TZOFFSETTO:+0100
TZNAME:CET
DTSTART:20241027T010000
END:STANDARD
BEGIN:DAYLIGHT
TZOFFSETFROM:+0100
TZOFFSETTO:+0200
TZNAME:CEST
DTSTART:20250330T010000
END:DAYLIGHT
BEGIN:STANDARD
TZOFFSETFROM:+0200
TZOFFSETTO:+0100
TZNAME:CET
DTSTART:20251026T010000
END:STANDARD
BEGIN:DAYLIGHT
TZOFFSETFROM:+0100
TZOFFSETTO:+0200
TZNAME:CEST
DTSTART:20260329T010000
END:DAYLIGHT
BEGIN:STANDARD
TZOFFSETFROM:+0200
TZOFFSETTO:+0100
TZNAME:CET
DTSTART:20261025T010000
END:STANDARD
END:VTIMEZONE
BEGIN:VEVENT
DTSTART;VALUE=DATE:20250630
DTEND;VALUE=DATE:20250704
DTSTAMP:20260421T061537
CREATED:20250514T132914Z
LAST-MODIFIED:20250514T132914Z
UID:77843-1751241600-1751587199@www.vc-magazin.de
SUMMARY:MAD Summit
DESCRIPTION:Auf dem MAD Summit vom 30. Juni – 3. Juli 2025 in München erleben Sie in 18 Workshops praxisnah die Konzeption\, Implementation und Bereitstellung von modernsten Software-Systemen. Von klugen Software-Architektur-Entscheidungen bis zu LLMs in API Design. \nMehr Informationen hier: https://mad-summit.de/!
URL:https://www.vc-magazin.de/event/mad-summit-2025/
LOCATION:München\, Deutschland
END:VEVENT
BEGIN:VEVENT
DTSTART;VALUE=DATE:20250716
DTEND;VALUE=DATE:20250717
DTSTAMP:20260421T061537
CREATED:20250401T123845Z
LAST-MODIFIED:20250401T123912Z
UID:77379-1752624000-1752710399@www.vc-magazin.de
SUMMARY:Munich Startup Festival 2025
DESCRIPTION:Am 16. Juli geht das Munich Startup Festival im Backstage in München in die dritte Runde. Sie können sich auf einen ganzen Tag Programm freuen\, denn auch in diesem Jahr gibt es wieder hochkarätige Speaker\, Workshops\, Panels\, Live-Musik\, Verpflegung\, Networking und vieles mehr. \n\nTickets können Sie sich ab sofort Festival Website sichern.\n\nSchnell sein lohnt sich\, auf die ersten 100 Tickets gibt es 25 % Early Bird Rabatt. \n\nZeitnah folgen weitere Updates zum Munich Startup Festival 2025!\n\nZu Munich Startup
URL:https://www.vc-magazin.de/event/munich-startup-festival-2025/
LOCATION:Backstage München\, Reitknechtstraße 6\, München\, Bayern\, 80639\, Deutschland
ATTACH;FMTTYPE=image/png:https://www.vc-magazin.de/wp-content/uploads/2025/04/mucstupfestival.png
END:VEVENT
END:VCALENDAR