BEGIN:VCALENDAR
VERSION:2.0
PRODID:-//VC Magazin - ECPv6.15.15//NONSGML v1.0//EN
CALSCALE:GREGORIAN
METHOD:PUBLISH
X-WR-CALNAME:VC Magazin
X-ORIGINAL-URL:https://www.vc-magazin.de
X-WR-CALDESC:Veranstaltungen für VC Magazin
REFRESH-INTERVAL;VALUE=DURATION:PT1H
X-Robots-Tag:noindex
X-PUBLISHED-TTL:PT1H
BEGIN:VTIMEZONE
TZID:Europe/Berlin
BEGIN:DAYLIGHT
TZOFFSETFROM:+0100
TZOFFSETTO:+0200
TZNAME:CEST
DTSTART:20240331T010000
END:DAYLIGHT
BEGIN:STANDARD
TZOFFSETFROM:+0200
TZOFFSETTO:+0100
TZNAME:CET
DTSTART:20241027T010000
END:STANDARD
BEGIN:DAYLIGHT
TZOFFSETFROM:+0100
TZOFFSETTO:+0200
TZNAME:CEST
DTSTART:20250330T010000
END:DAYLIGHT
BEGIN:STANDARD
TZOFFSETFROM:+0200
TZOFFSETTO:+0100
TZNAME:CET
DTSTART:20251026T010000
END:STANDARD
BEGIN:DAYLIGHT
TZOFFSETFROM:+0100
TZOFFSETTO:+0200
TZNAME:CEST
DTSTART:20260329T010000
END:DAYLIGHT
BEGIN:STANDARD
TZOFFSETFROM:+0200
TZOFFSETTO:+0100
TZNAME:CET
DTSTART:20261025T010000
END:STANDARD
END:VTIMEZONE
BEGIN:VEVENT
DTSTART;TZID=Europe/Berlin:20250918T163000
DTEND;TZID=Europe/Berlin:20250918T230000
DTSTAMP:20260421T025338
CREATED:20250411T142819Z
LAST-MODIFIED:20250915T132209Z
UID:77556-1758213000-1758236400@www.vc-magazin.de
SUMMARY:25 Jahre VentureCapital Magazin
DESCRIPTION:Seit Mai 2000 informiert das VentureCapital Magazin Investoren\, innovative Unternehmer und Intermediäre über Trends\, Transaktionen und Hintergründe rund um privates Beteiligungskapital\, Entrepreneurship und Technologien! Gemeinsam wollen wir zurückblicken und in die Zukunft schauen! \nEin Vierteljahrhundert voller Innovationen\, spannender Geschichten und exklusiver Einblicke in die Welt der Venture Capital- & Private Equity-Branche. Wir laden Sie ein\, mit uns diesen besonderen Meilenstein zu feiern! \n Datum: 18. September 2025\, ab 16:30 Uhr\nOrt: WERK1\, Am Kartoffelgarten 14\, 81671 München \n\nWas erwartet Sie?\n\n25 Jahre Venture Capital & Private Equity: Highlights aus einer bewegten Zeit\nAusblick: Wie sieht die Start-up- und Investorenszene der Zukunft aus?\nExklusive Gespräche: Treffen Sie führende Branchenexperten\, erfahren Sie spannende Insights\, seien Sie dabei!\nNetworking-Möglichkeiten: Vernetzen Sie sich mit Investoren\, Entrepreneuren\, Multiplikatoren und Innovatoren!\n\n\nAgenda\n\n\n\nBegrüßung\nGrußwort von Ministerialdirigentin Gudrun Weidmann und Videobotschaft Tobias Gotthardt\, Staatssekretär des Bayerischen Staatsministeriums für Wirtschaft\, Landesentwicklung und Energie\n\nStart-up-Ökosystem München\n\nArno Eggers (Munich Startup)\nDr. Robert R. Richter (WERK1)\nim Gespräch mit Mathias Renz\, Head of VentureCapital Magazin\n\n\nVom Münchner Businessplan Wettbewerb „zum Unicorn“ – Die EGYM-Story\n\nDr. Alex von Frankenberg\, Investor\, Autor und ehemaliger Managing Director\n High-Tech Gründerfonds\nFlorian Sauter (EGYM)\nFranz Wocheslander\, Senior Investment Manager Bayern Kapital\nim Gespräch mit Mathias Renz\, Head of VentureCapital Magazin\n\n\nBusiness as usual is over: Von Disruption zum Wettbewerbsvorteil mit Corporate Venturing\n\nFlorian Nöll (PwC Deutschland)\nPeter Lauerbach (vent.io)\nTanja Rosendahl (NRW.Bank)\nKendra Rauschenberger (Siemens Energy)\nModeration: Dejan Jovicevic\, CEO und Gründer Brutkasten\n\n\nLaudatio\nAnna Jacobi (BVK e.V.)\n25 Jahre Venture Capital -Rückblick & Ausblick \n\nDr. Michael Brandkamp (ECBF)\nDr. Matthias Kromayer (MIG Capital)\nDr. Hubert Birner (TVM Capital Life Science)\nDr. Marion Jung (T-CURX)\nModeration: Karin Hofelich\, Life Science Lead & Community Management VentureCapital Magazin\n\n\n\n\n\n\n\n\nWir bedanken uns bei den Partnern des Events\nPwC Deutschland\n  \nECBF\nMIG Capital\n  \nvent.io\n  \n  \n  \n  \n  \n  \nWIPIT\n  \nGründerland Bayern\n  \n  \n  \n  \nSichern Sie sich hier Ihr Ticket:\nhttps://25-jahre-venturecapital-magazin.eventbrite.de \nWir freuen uns auf Sie!
URL:https://www.vc-magazin.de/event/25-jahre-venturecapital-magazin/
LOCATION:Werk1\, Am Kartoffelgarten 14\, München\, Bayern\, 81671\, Germany
ATTACH;FMTTYPE=image/png:https://www.vc-magazin.de/wp-content/uploads/2025/04/Screenshot-2025-04-11-114148.png
ORGANIZER;CN="VentureCapital Magazin":MAILTO:info@vc-magazin.de
END:VEVENT
BEGIN:VEVENT
DTSTART;VALUE=DATE:20250929
DTEND;VALUE=DATE:20251002
DTSTAMP:20260421T025338
CREATED:20250117T122113Z
LAST-MODIFIED:20250117T122114Z
UID:76746-1759104000-1759363199@www.vc-magazin.de
SUMMARY:Bits & Pretzels 2025
DESCRIPTION:Bits & Pretzels hosts 7\,500 founders\, investors\, and industry leaders for three days full of learning\, networking & doing business during Munich Oktoberfest. \nMore information here.
URL:https://www.vc-magazin.de/event/bits-pretzels-2025/
LOCATION:München\, Deutschland
END:VEVENT
END:VCALENDAR