BEGIN:VCALENDAR
VERSION:2.0
PRODID:-//VC Magazin - ECPv6.15.15//NONSGML v1.0//EN
CALSCALE:GREGORIAN
METHOD:PUBLISH
X-ORIGINAL-URL:https://www.vc-magazin.de
X-WR-CALDESC:Veranstaltungen für VC Magazin
REFRESH-INTERVAL;VALUE=DURATION:PT1H
X-Robots-Tag:noindex
X-PUBLISHED-TTL:PT1H
BEGIN:VTIMEZONE
TZID:Europe/Berlin
BEGIN:DAYLIGHT
TZOFFSETFROM:+0100
TZOFFSETTO:+0200
TZNAME:CEST
DTSTART:20220327T010000
END:DAYLIGHT
BEGIN:STANDARD
TZOFFSETFROM:+0200
TZOFFSETTO:+0100
TZNAME:CET
DTSTART:20221030T010000
END:STANDARD
BEGIN:DAYLIGHT
TZOFFSETFROM:+0100
TZOFFSETTO:+0200
TZNAME:CEST
DTSTART:20230326T010000
END:DAYLIGHT
BEGIN:STANDARD
TZOFFSETFROM:+0200
TZOFFSETTO:+0100
TZNAME:CET
DTSTART:20231029T010000
END:STANDARD
BEGIN:DAYLIGHT
TZOFFSETFROM:+0100
TZOFFSETTO:+0200
TZNAME:CEST
DTSTART:20240331T010000
END:DAYLIGHT
BEGIN:STANDARD
TZOFFSETFROM:+0200
TZOFFSETTO:+0100
TZNAME:CET
DTSTART:20241027T010000
END:STANDARD
END:VTIMEZONE
BEGIN:VEVENT
DTSTART;TZID=Europe/Berlin:20230615T090000
DTEND;TZID=Europe/Berlin:20230615T180000
DTSTAMP:20260421T101021
CREATED:20230213T105943Z
LAST-MODIFIED:20230406T083729Z
UID:70766-1686819600-1686852000@www.vc-magazin.de
SUMMARY:MUPET Munich Private Equity Training
DESCRIPTION:Bildnachweis: P+ Training GmbH. \nMUPET\n  \nAuf der MUPET werden jährlich die aktuellen Themen und Entwicklungen der Private Equity-Branche vorgestellt und diskutiert. Als eine der marktführenden Private Equity-Veranstaltungen in Deutschland bietet sie zahlreiche Vorträge und Paneldiskussionen mit führenden Expertinnen und Experten in den Bereichen Private Funds\, M&A und Tax. Zur MUPET werden Vertreter aus den verschiedensten Bereichen der Private Equity-Praxis (nationale und internationale Asset Manager\, Fondsinitiatoren und institutionelle Investoren) begrüßt. \nProgramm und Anmeldung finden Sie hier. (https://www.pptraining.de/mupet)
URL:https://www.vc-magazin.de/event/mupet-2023/
LOCATION:Literaturhaus München\, Salvatorplatz 1\, München\, 80333\, Deutschland
END:VEVENT
END:VCALENDAR