BEGIN:VCALENDAR
VERSION:2.0
PRODID:-//VC Magazin - ECPv6.15.15//NONSGML v1.0//EN
CALSCALE:GREGORIAN
METHOD:PUBLISH
X-ORIGINAL-URL:https://www.vc-magazin.de
X-WR-CALDESC:Veranstaltungen für VC Magazin
REFRESH-INTERVAL;VALUE=DURATION:PT1H
X-Robots-Tag:noindex
X-PUBLISHED-TTL:PT1H
BEGIN:VTIMEZONE
TZID:Europe/Berlin
BEGIN:DAYLIGHT
TZOFFSETFROM:+0100
TZOFFSETTO:+0200
TZNAME:CEST
DTSTART:20230326T010000
END:DAYLIGHT
BEGIN:STANDARD
TZOFFSETFROM:+0200
TZOFFSETTO:+0100
TZNAME:CET
DTSTART:20231029T010000
END:STANDARD
BEGIN:DAYLIGHT
TZOFFSETFROM:+0100
TZOFFSETTO:+0200
TZNAME:CEST
DTSTART:20240331T010000
END:DAYLIGHT
BEGIN:STANDARD
TZOFFSETFROM:+0200
TZOFFSETTO:+0100
TZNAME:CET
DTSTART:20241027T010000
END:STANDARD
BEGIN:DAYLIGHT
TZOFFSETFROM:+0100
TZOFFSETTO:+0200
TZNAME:CEST
DTSTART:20250330T010000
END:DAYLIGHT
BEGIN:STANDARD
TZOFFSETFROM:+0200
TZOFFSETTO:+0100
TZNAME:CET
DTSTART:20251026T010000
END:STANDARD
END:VTIMEZONE
BEGIN:VEVENT
DTSTART;VALUE=DATE:20240613
DTEND;VALUE=DATE:20240614
DTSTAMP:20260420T151255
CREATED:20231123T144939Z
LAST-MODIFIED:20240326T151856Z
UID:73063-1718236800-1718323199@www.vc-magazin.de
SUMMARY:Munich Private Equity Training (MUPET) 2024
DESCRIPTION:Bildnachweis: P+ Training GmbH. \nAuf der MUPET Munich Private Equity Training werden jährlich aktuelle Themen und Entwicklungen der Private Equity-Branche vorgestellt und diskutiert. Als eine der marktführenden Private Equity-Veranstaltungen in Deutschland bietet sie zahlreiche Vorträge und Panels aus den Bereichen Funds\, M&A und Tax. \nMUPET\nMehr Informationen hier.
URL:https://www.vc-magazin.de/event/munich-private-equity-training-2024/
LOCATION:Literaturhaus München\, Salvatorplatz 1\, München\, 80333\, Deutschland
END:VEVENT
END:VCALENDAR