BEGIN:VCALENDAR
VERSION:2.0
PRODID:-//VC Magazin - ECPv6.15.15//NONSGML v1.0//EN
CALSCALE:GREGORIAN
METHOD:PUBLISH
X-WR-CALNAME:VC Magazin
X-ORIGINAL-URL:https://www.vc-magazin.de
X-WR-CALDESC:Veranstaltungen für VC Magazin
REFRESH-INTERVAL;VALUE=DURATION:PT1H
X-Robots-Tag:noindex
X-PUBLISHED-TTL:PT1H
BEGIN:VTIMEZONE
TZID:Europe/Berlin
BEGIN:DAYLIGHT
TZOFFSETFROM:+0100
TZOFFSETTO:+0200
TZNAME:CEST
DTSTART:20240331T010000
END:DAYLIGHT
BEGIN:STANDARD
TZOFFSETFROM:+0200
TZOFFSETTO:+0100
TZNAME:CET
DTSTART:20241027T010000
END:STANDARD
BEGIN:DAYLIGHT
TZOFFSETFROM:+0100
TZOFFSETTO:+0200
TZNAME:CEST
DTSTART:20250330T010000
END:DAYLIGHT
BEGIN:STANDARD
TZOFFSETFROM:+0200
TZOFFSETTO:+0100
TZNAME:CET
DTSTART:20251026T010000
END:STANDARD
BEGIN:DAYLIGHT
TZOFFSETFROM:+0100
TZOFFSETTO:+0200
TZNAME:CEST
DTSTART:20260329T010000
END:DAYLIGHT
BEGIN:STANDARD
TZOFFSETFROM:+0200
TZOFFSETTO:+0100
TZNAME:CET
DTSTART:20261025T010000
END:STANDARD
END:VTIMEZONE
BEGIN:VEVENT
DTSTART;VALUE=DATE:20251106
DTEND;VALUE=DATE:20251107
DTSTAMP:20260422T091643
CREATED:20250911T080223Z
LAST-MODIFIED:20250911T080224Z
UID:79291-1762387200-1762473599@www.vc-magazin.de
SUMMARY:BAND First Time Angels Lab
DESCRIPTION:Bildnachweis: PwC\, Spherity. \nAngel Investing ist ein spannendes\, aber auch komplexes Feld. Wer neu in diesen Markt einsteigt\, steht vor vielen Fragen und Herausforderungen\, die oftmals Neuland bedeuten. Um den Einstieg zu erleichtern\, bietet das BAND First Time Angels Lab eine strukturierte Einführung in die Welt des Angel Investings. Begleitet werden die Teilnehmenden von erfahrenen Business Angels\, die ihr Wissen\, ihre Perspektiven und ihre Erfahrungen teilen – praxisnah und unterstützend. So entsteht ein fundierter Überblick über die zentralen Themen und Prozesse\, die für erfolgreiches Investieren wichtig sind. \nDas BAND First Time Angels Lab startet am Donnerstag\, 6. November 2025 und umfasst insgesamt fünf Sessions: \nDonnerstag 6.11.25 18-19:30\, Online – Einstieg & Mindset: Was macht einen guten Business Angel aus? \nWas ist die Rolle des Business Angels im Startup Ökosystem\, welche Erwartungen kann ich als Angel mitbringen und was sind typische Fallstricke für Angel-Neulinge. In der ersten Session des First Time Angel Lab schaffen erfahrene Angels Orientierung und Überblick über das Angel Dasein. BAND und Tiggels geben Input zu INVEST und GESSI. \n\nAlf Arnold\, Business Angel und Geschäftsführer Business Angels Deutschland (BAND) e.V.\nKatja Ruhnke\, Business Angels und Vorstandsvorsitzende Business Angels Deutschland (BAND) e.V.\nMarius Rosenberg\, Fachanwalt für Internationales Wirtschaftsrecht\, Partner TIGGES Rechtsanwälte\nRichard Wibbels\, Projektmanager Business Angels Deutschland (BAND) e.V.\n\nDonnerstag 13.11.25 18-19:30 – Portfolio Aufbau und Deals finden\, die zu mir passen \nWie baue ich mir ein Portfolio auf und wie finde ich Deals die zu mir passen? In der zweiten Session beleuchten wir den Selektionsprozess von Deals in einem interaktiven Format. \n\nDr. Jörg Stein\, Business Angel\nN.N.\, tbc\nN.N.\, tbc\n\nDonnerstag 20.11.25 18-19:30 – Pitches erleben und bewerten \nIn der dritten Session des Labs wird live gepitcht. Ihr könnt die Pitches analysieren und erhaltet von erfahrenen Angels als Sparringspartner Unterstützung und Tipps. \n\nStartup Pitches\nBeate Fastrich\, Business Angel\nN.N.\, tbc\n\nMontag 24.11.25 18-19:30 – Den Zielstartups genau auf den Zahn fühlen – Due Diligence in der Frühphase \nIn der vierten Session dreht sich alles um die Due Diligence\, die gründliche Prüfung eines Unternehmens. Einige Experten aus der BAND Community tauchen dabei in verschiedene Aspekte des so wichtigen Prozesses im Angel Investing ein. \n\nWillem Bulthuis\, Business Angel\nCarsten Kraus\, Business Angel des Jahres 2024\nDr. Philipp Wüllrich\, Rechtsanwalt\, LL.M. (Edinburgh)\, Partner und Anwalt bei Forvis Mazars\n\nDonnerstag 04.12.25 18-19:30 – Wie viel ist das Start-up wert? \nDie finale Session des First Time Angel Lab nimmt sich dem Thema Bewertungen an. BAND Mitglieder und Spezialisten auf dem Feld geben Einblicke in ihre Herangehensweise. \n\nArnas Bräutigam\, Co-Founder AddedVal.io & startupdetector\nMartin Büchs\, Business Angel\n\nFür Mitglieder in BAND kostenfrei!
URL:https://www.vc-magazin.de/event/band-first-time-angels-lab-2025/
LOCATION:Online\, Deutschland
END:VEVENT
END:VCALENDAR