BEGIN:VCALENDAR
VERSION:2.0
PRODID:-//VC Magazin - ECPv6.15.15//NONSGML v1.0//EN
CALSCALE:GREGORIAN
METHOD:PUBLISH
X-ORIGINAL-URL:https://www.vc-magazin.de
X-WR-CALDESC:Veranstaltungen für VC Magazin
REFRESH-INTERVAL;VALUE=DURATION:PT1H
X-Robots-Tag:noindex
X-PUBLISHED-TTL:PT1H
BEGIN:VTIMEZONE
TZID:Europe/Berlin
BEGIN:DAYLIGHT
TZOFFSETFROM:+0100
TZOFFSETTO:+0200
TZNAME:CEST
DTSTART:20250330T010000
END:DAYLIGHT
BEGIN:STANDARD
TZOFFSETFROM:+0200
TZOFFSETTO:+0100
TZNAME:CET
DTSTART:20251026T010000
END:STANDARD
BEGIN:DAYLIGHT
TZOFFSETFROM:+0100
TZOFFSETTO:+0200
TZNAME:CEST
DTSTART:20260329T010000
END:DAYLIGHT
BEGIN:STANDARD
TZOFFSETFROM:+0200
TZOFFSETTO:+0100
TZNAME:CET
DTSTART:20261025T010000
END:STANDARD
BEGIN:DAYLIGHT
TZOFFSETFROM:+0100
TZOFFSETTO:+0200
TZNAME:CEST
DTSTART:20270328T010000
END:DAYLIGHT
BEGIN:STANDARD
TZOFFSETFROM:+0200
TZOFFSETTO:+0100
TZNAME:CET
DTSTART:20271031T010000
END:STANDARD
END:VTIMEZONE
BEGIN:VEVENT
DTSTART;TZID=Europe/Berlin:20260227T140000
DTEND;TZID=Europe/Berlin:20260227T144500
DTSTAMP:20260422T042511
CREATED:20260211T151243Z
LAST-MODIFIED:20260216T160135Z
UID:81008-1772200800-1772203500@www.vc-magazin.de
SUMMARY:EUDI-Wallet Webinar mit PwC & Spherity
DESCRIPTION:Bildnachweis: PwC\, Spherity. \neIDAS 2.0. – Von der neuen Regulatorik (u.a. AML) zum Use Case: Know Your Customer unter eIDAS 2.0 mit EUDI- und Business-Wallets\nDie regulatorischen Rahmenbedingungen rund um digitale Identitäten befinden sich im Wandel. Mit eIDAS 2 entsteht ein neues europäisches Identitätsökosystem\, das erhebliche Auswirkungen auf Wirtschaft\, Verwaltung und Technologieanbieter haben wird. \nIn der vierteiligen Webinarreihe\, die Spherity gemeinsam mit PwC durchführt\, wird ein strukturierter\, tiefer Einblick in die wichtigsten Entwicklungen – von der Regulierung bis hin zur praktischen Umsetzung\, gegeben. \nDer dritte Teil der eIDAS 2.0 Webcast-Reihe widmet sich dem Thema „Von der neuen Regulatorik (u.a. AML) zum Use Case: Know Your Customer unter eIDAS 2.0 mit EUDI- und Business- Wallets.”. \nWas Sie in diesem Webinar erwartet\nBegrüßung & Einleitung\nEinordnung des Webinars in den Gesamtkontext von eIDAS 2.0\, kurzer Rückblick zum zweiten Teil der Webinarreihe sowie Überblick der Zielsetzung und Agenda. \nKYC und eIDAS\nDer Know-Your-Customer-Prozess ist ein zentraler Ansatzpunkt\, um mit eIDAS 2.0 und Business Wallets signifikante Effizienzpotenziale zu erschließen. Anhand des Beispiels einer Kontoeröffnung\, zeigen wir auf\, wie sich der künftige EUDI-Wallet Prozess gestaltet. \nEUDI-Wallet: Fokus auf Personen und SMEs\nDie EUDI-Wallet ist eine geeignete Lösung für natürliche Personen und SMEs\, stößt jedoch bei globalen Konzernstrukturen an funktionale Grenzen. \nRegulatorik und nächste Schritte \nWelche regulatorischen Anforderungen die EUDI-Wallet im Kontext von KYC-Prozessen zu beachten gilt und wie Sie Ihr Unternehmen darauf vorbereiten\, erfahren Sie anhand von Praxisbeispielen. \nInteraktive Q&A-Session\nIm Anschluss stehen Experten für individuelle Fragen und fachlichen Austausch zur Verfügung. \nJetzt hier kostenfrei hier anmelden!
URL:https://www.vc-magazin.de/event/eudi-wallet-webinar-pwc-spherity-3-2026/
LOCATION:Online\, Deutschland
ATTACH;FMTTYPE=image/png:https://www.vc-magazin.de/wp-content/uploads/2026/02/EUDI-Wallet-Webcast-Reihe-34-PwC-Spherity-0226-1.png
END:VEVENT
END:VCALENDAR