BEGIN:VCALENDAR
VERSION:2.0
PRODID:-//VC Magazin - ECPv6.15.15//NONSGML v1.0//EN
CALSCALE:GREGORIAN
METHOD:PUBLISH
X-WR-CALNAME:VC Magazin
X-ORIGINAL-URL:https://www.vc-magazin.de
X-WR-CALDESC:Veranstaltungen für VC Magazin
REFRESH-INTERVAL;VALUE=DURATION:PT1H
X-Robots-Tag:noindex
X-PUBLISHED-TTL:PT1H
BEGIN:VTIMEZONE
TZID:Europe/Berlin
BEGIN:DAYLIGHT
TZOFFSETFROM:+0100
TZOFFSETTO:+0200
TZNAME:CEST
DTSTART:20250330T010000
END:DAYLIGHT
BEGIN:STANDARD
TZOFFSETFROM:+0200
TZOFFSETTO:+0100
TZNAME:CET
DTSTART:20251026T010000
END:STANDARD
BEGIN:DAYLIGHT
TZOFFSETFROM:+0100
TZOFFSETTO:+0200
TZNAME:CEST
DTSTART:20260329T010000
END:DAYLIGHT
BEGIN:STANDARD
TZOFFSETFROM:+0200
TZOFFSETTO:+0100
TZNAME:CET
DTSTART:20261025T010000
END:STANDARD
BEGIN:DAYLIGHT
TZOFFSETFROM:+0100
TZOFFSETTO:+0200
TZNAME:CEST
DTSTART:20270328T010000
END:DAYLIGHT
BEGIN:STANDARD
TZOFFSETFROM:+0200
TZOFFSETTO:+0100
TZNAME:CET
DTSTART:20271031T010000
END:STANDARD
END:VTIMEZONE
BEGIN:VEVENT
DTSTART;TZID=Europe/Berlin:20260311T130000
DTEND;TZID=Europe/Berlin:20260311T170000
DTSTAMP:20260422T024338
CREATED:20260130T131731Z
LAST-MODIFIED:20260130T131732Z
UID:80914-1773234000-1773248400@www.vc-magazin.de
SUMMARY:31. Sächsische Investoren Roadshow – Digitale Ausgabe
DESCRIPTION:Bildnachweis: PwC\, Spherity. \nInternationale Investoren treffen auf sächsische Start-ups. Erleben Sie 15 innovative Live-Pitches inmitten einer virtuellen Welt! Nutzen Sie die Chance\, sich mit spannenden Gründer/-innen sowie Investor/-innen im 1:1 austauschen. \nDie nächste Ausgabe der Sächsischen Investoren Roadshow ist jetzt digital und interaktiv in virtuellem Raum! Das etablierte Format verknüpft Investoren aus dem futureSAX-Investoren-Netzwerk mit innovativen Start-ups und Wachstumsunternehmen aus Sachsen – diesmal ganz bequem von Ihrem Schreibtisch aus. \nWas Sie erwartet: \n\n15 spannende Pitches sächsischer Investment Cases in den drei Kategorien Advanced Manufacturing | BioTech & Life Sciences | Enterprise Software & Applied AI – von Pre-Seed bis Series A\,\nthematische Deep Dives in interaktiven Break-out-Räumen\,\nAustausch mit internationalen Investor/-innen unseres Netzwerkes\,\ninnovative digitale Features für das Kennenlernen in 1:1-Meetings oder in Gruppen\n\nSeien Sie dabei und sichern Sie sich Ihren Platz in der digitalen Roadshow – melden Sie sich bis zum 10. März 2026 an: https://www.futuresax.de/events/veranstaltung/31-saechsische-investoren-roadshow-online/!
URL:https://www.vc-magazin.de/event/saechsische-investoren-roadshow-digitale-ausgabe-2026/
LOCATION:Online\, Deutschland
END:VEVENT
END:VCALENDAR