BEGIN:VCALENDAR
VERSION:2.0
PRODID:-//VC Magazin - ECPv6.15.15//NONSGML v1.0//EN
CALSCALE:GREGORIAN
METHOD:PUBLISH
X-ORIGINAL-URL:https://www.vc-magazin.de
X-WR-CALDESC:Veranstaltungen für VC Magazin
REFRESH-INTERVAL;VALUE=DURATION:PT1H
X-Robots-Tag:noindex
X-PUBLISHED-TTL:PT1H
BEGIN:VTIMEZONE
TZID:Europe/Berlin
BEGIN:DAYLIGHT
TZOFFSETFROM:+0100
TZOFFSETTO:+0200
TZNAME:CEST
DTSTART:20240331T010000
END:DAYLIGHT
BEGIN:STANDARD
TZOFFSETFROM:+0200
TZOFFSETTO:+0100
TZNAME:CET
DTSTART:20241027T010000
END:STANDARD
BEGIN:DAYLIGHT
TZOFFSETFROM:+0100
TZOFFSETTO:+0200
TZNAME:CEST
DTSTART:20250330T010000
END:DAYLIGHT
BEGIN:STANDARD
TZOFFSETFROM:+0200
TZOFFSETTO:+0100
TZNAME:CET
DTSTART:20251026T010000
END:STANDARD
BEGIN:DAYLIGHT
TZOFFSETFROM:+0100
TZOFFSETTO:+0200
TZNAME:CEST
DTSTART:20260329T010000
END:DAYLIGHT
BEGIN:STANDARD
TZOFFSETFROM:+0200
TZOFFSETTO:+0100
TZNAME:CET
DTSTART:20261025T010000
END:STANDARD
END:VTIMEZONE
BEGIN:VEVENT
DTSTART;TZID=Europe/Berlin:20250515T180000
DTEND;TZID=Europe/Berlin:20250515T223000
DTSTAMP:20260422T131608
CREATED:20250117T123044Z
LAST-MODIFIED:20250117T123044Z
UID:76749-1747332000-1747348200@www.vc-magazin.de
SUMMARY:Sundowner @ Osborne Clarke
DESCRIPTION:Sie studieren Jura oder haben Ihr Examen bereits in der Tasche und haben Lust\, Ihren potentiellen neuen Arbeitgeber kennenzulernen? Dann kommen Sie vorbei! Osborne Clarke lädt zu einem Treffen in entspannter Atmosphäre und bei kühlen Getränken und Snacks ein. \nMehr zum Event.
URL:https://www.vc-magazin.de/event/sundowner-osborne-clarke-muenchen/
LOCATION:Osborne Clarke München\, Lilli-Palmer-Straße 2\, München\, Bayern\, 80636\, Germany
END:VEVENT
END:VCALENDAR