BEGIN:VCALENDAR
VERSION:2.0
PRODID:-//VC Magazin - ECPv6.15.15//NONSGML v1.0//EN
CALSCALE:GREGORIAN
METHOD:PUBLISH
X-ORIGINAL-URL:https://www.vc-magazin.de
X-WR-CALDESC:Veranstaltungen für VC Magazin
REFRESH-INTERVAL;VALUE=DURATION:PT1H
X-Robots-Tag:noindex
X-PUBLISHED-TTL:PT1H
BEGIN:VTIMEZONE
TZID:Europe/Berlin
BEGIN:DAYLIGHT
TZOFFSETFROM:+0100
TZOFFSETTO:+0200
TZNAME:CEST
DTSTART:20220327T010000
END:DAYLIGHT
BEGIN:STANDARD
TZOFFSETFROM:+0200
TZOFFSETTO:+0100
TZNAME:CET
DTSTART:20221030T010000
END:STANDARD
BEGIN:DAYLIGHT
TZOFFSETFROM:+0100
TZOFFSETTO:+0200
TZNAME:CEST
DTSTART:20230326T010000
END:DAYLIGHT
BEGIN:STANDARD
TZOFFSETFROM:+0200
TZOFFSETTO:+0100
TZNAME:CET
DTSTART:20231029T010000
END:STANDARD
BEGIN:DAYLIGHT
TZOFFSETFROM:+0100
TZOFFSETTO:+0200
TZNAME:CEST
DTSTART:20240331T010000
END:DAYLIGHT
BEGIN:STANDARD
TZOFFSETFROM:+0200
TZOFFSETTO:+0100
TZNAME:CET
DTSTART:20241027T010000
END:STANDARD
END:VTIMEZONE
BEGIN:VEVENT
DTSTART;TZID=Europe/Berlin:20230118T090000
DTEND;TZID=Europe/Berlin:20230118T130000
DTSTAMP:20260421T221912
CREATED:20230111T121351Z
LAST-MODIFIED:20230111T121351Z
UID:70571-1674032400-1674046800@www.vc-magazin.de
SUMMARY:SECA Private Equity Trainings (Start)
DESCRIPTION:Bildnachweis: P+ Training GmbH. \nThe SECA (Swiss Private Equity and Corporate Finance Association) offers a series of training courses to help professionals interested in private equity improve their skills. \nA series of eight training courses was designed for a wide audience\, ranging from newcomers to the private equity business to more established professionals\, but also account managers and middle and back-office staff wishing to deepen their knowledge\, professionals in finance\, banking\, insurance and pension funds. The majority of the training sessions are accredited by VSV-ASG and Cicero. \n6 modules are conducted in English and online. However\, the legal modules will be held in French and German and physically for better understanding and wording. \nMore information and the program here.
URL:https://www.vc-magazin.de/event/seca-private-equity-trainings/
LOCATION:online
END:VEVENT
END:VCALENDAR