BEGIN:VCALENDAR
VERSION:2.0
PRODID:-//VC Magazin - ECPv6.15.15//NONSGML v1.0//EN
CALSCALE:GREGORIAN
METHOD:PUBLISH
X-ORIGINAL-URL:https://www.vc-magazin.de
X-WR-CALDESC:Veranstaltungen für VC Magazin
REFRESH-INTERVAL;VALUE=DURATION:PT1H
X-Robots-Tag:noindex
X-PUBLISHED-TTL:PT1H
BEGIN:VTIMEZONE
TZID:Europe/Berlin
BEGIN:DAYLIGHT
TZOFFSETFROM:+0100
TZOFFSETTO:+0200
TZNAME:CEST
DTSTART:20240331T010000
END:DAYLIGHT
BEGIN:STANDARD
TZOFFSETFROM:+0200
TZOFFSETTO:+0100
TZNAME:CET
DTSTART:20241027T010000
END:STANDARD
BEGIN:DAYLIGHT
TZOFFSETFROM:+0100
TZOFFSETTO:+0200
TZNAME:CEST
DTSTART:20250330T010000
END:DAYLIGHT
BEGIN:STANDARD
TZOFFSETFROM:+0200
TZOFFSETTO:+0100
TZNAME:CET
DTSTART:20251026T010000
END:STANDARD
BEGIN:DAYLIGHT
TZOFFSETFROM:+0100
TZOFFSETTO:+0200
TZNAME:CEST
DTSTART:20260329T010000
END:DAYLIGHT
BEGIN:STANDARD
TZOFFSETFROM:+0200
TZOFFSETTO:+0100
TZNAME:CET
DTSTART:20261025T010000
END:STANDARD
END:VTIMEZONE
BEGIN:VEVENT
DTSTART;VALUE=DATE:20250626
DTEND;VALUE=DATE:20250627
DTSTAMP:20260420T003053
CREATED:20241023T094304Z
LAST-MODIFIED:20241023T094305Z
UID:75825-1750896000-1750982399@www.vc-magazin.de
SUMMARY:MUPET 2025
DESCRIPTION:Bildnachweis: P+ Training GmbH. \nDie MUPET ist eines der größten und marktführenden Private Equity-Branchenevents. Im Rahmen dieser jährlichen Konferenz in München begrüßt POELLATH Vertreter aus verschiedensten Bereichen der Private Equity-Praxis (v.a. nationale und internationale Asset Manager\, Fondsinitiatoren und institutionelle Investoren) und bietet den Teilnehmenden dabei stets ein attraktives Programm rund um die aktuellen Themen des Marktes. \nSave the Date MUPET 2025: Donnerstag\, 26. Juni 2025. Mehr Informationen hier.
URL:https://www.vc-magazin.de/event/mupet-2025/
LOCATION:München\, Deutschland
END:VEVENT
END:VCALENDAR