BEGIN:VCALENDAR
VERSION:2.0
PRODID:-//VC Magazin - ECPv6.15.15//NONSGML v1.0//EN
CALSCALE:GREGORIAN
METHOD:PUBLISH
X-ORIGINAL-URL:https://www.vc-magazin.de
X-WR-CALDESC:Veranstaltungen für VC Magazin
REFRESH-INTERVAL;VALUE=DURATION:PT1H
X-Robots-Tag:noindex
X-PUBLISHED-TTL:PT1H
BEGIN:VTIMEZONE
TZID:Europe/Berlin
BEGIN:DAYLIGHT
TZOFFSETFROM:+0100
TZOFFSETTO:+0200
TZNAME:CEST
DTSTART:20220327T010000
END:DAYLIGHT
BEGIN:STANDARD
TZOFFSETFROM:+0200
TZOFFSETTO:+0100
TZNAME:CET
DTSTART:20221030T010000
END:STANDARD
BEGIN:DAYLIGHT
TZOFFSETFROM:+0100
TZOFFSETTO:+0200
TZNAME:CEST
DTSTART:20230326T010000
END:DAYLIGHT
BEGIN:STANDARD
TZOFFSETFROM:+0200
TZOFFSETTO:+0100
TZNAME:CET
DTSTART:20231029T010000
END:STANDARD
BEGIN:DAYLIGHT
TZOFFSETFROM:+0100
TZOFFSETTO:+0200
TZNAME:CEST
DTSTART:20240331T010000
END:DAYLIGHT
BEGIN:STANDARD
TZOFFSETFROM:+0200
TZOFFSETTO:+0100
TZNAME:CET
DTSTART:20241027T010000
END:STANDARD
END:VTIMEZONE
BEGIN:VEVENT
DTSTART;VALUE=DATE:20230628
DTEND;VALUE=DATE:20230630
DTSTAMP:20260421T142731
CREATED:20230406T114734Z
LAST-MODIFIED:20230406T114734Z
UID:71287-1687910400-1688083199@www.vc-magazin.de
SUMMARY:hub.berlin 2023
DESCRIPTION:Bildnachweis: HTGF. \nGet the latest industry insights with expert-led workshops\, top keynotes\, and exciting panels covering today’s pressing tech topics. Learn from over 200 outstanding speakers sharing their personal experience and vision on stage. \nFrom new dimensions of art\, one-one-sessions with speakers\, tech playgrounds\, and networking lounges to guided tours and a club night: be ready for an immersive experience you won’t forget. \nEinige bestätigte Speaker sind: Finanzminister Christian Lindner\, Minister Dr. Volker Wissing\, Dr. Daniela Gerd tom Markotten (Deutsche Bahn)\, Dr. Tanja Rückert (CDO Bosch Group)\, Timotheus Höttges (CEO Deutsche Telekom AG) und Dirk Hoke (CEO Volocopter) und mehr. \nAftermovie 2022 hier. \nZum Programm hier. \nTickets hier. \n 
URL:https://www.vc-magazin.de/event/hub-berlin-2023/
LOCATION:STATION Berlin\, Luckenwalder Str. 4-6\, Berlin\, 10963\, Deutschland
END:VEVENT
BEGIN:VEVENT
DTSTART;VALUE=DATE:20230628
DTEND;VALUE=DATE:20230629
DTSTAMP:20260421T142731
CREATED:20230512T124948Z
LAST-MODIFIED:20230512T124948Z
UID:71476-1687910400-1687996799@www.vc-magazin.de
SUMMARY:Innovators‘ Pitch 2023
DESCRIPTION:Bildnachweis: HTGF. \nThe Innovators‘ Pitch is the competition for early-stage start-ups in Europe. Bright tech entrepreneurs get the chance to present their innovative products or prototypes to a high-level jury and an expert audience. Joining forces with world-leading corporate partners\, Bitkom presents the Innovators‘ Pitch as part of the business festival hub.berlin on June 28th\, 2023. \nMore information here. \nStart-ups can apply here.
URL:https://www.vc-magazin.de/event/innovators-pitch-2023/
LOCATION:STATION Berlin\, Luckenwalder Str. 4-6\, Berlin\, 10963\, Deutschland
END:VEVENT
END:VCALENDAR