BEGIN:VCALENDAR
VERSION:2.0
PRODID:-//VC Magazin - ECPv6.15.15//NONSGML v1.0//EN
CALSCALE:GREGORIAN
METHOD:PUBLISH
X-WR-CALNAME:VC Magazin
X-ORIGINAL-URL:https://www.vc-magazin.de
X-WR-CALDESC:Veranstaltungen für VC Magazin
REFRESH-INTERVAL;VALUE=DURATION:PT1H
X-Robots-Tag:noindex
X-PUBLISHED-TTL:PT1H
BEGIN:VTIMEZONE
TZID:Europe/Berlin
BEGIN:DAYLIGHT
TZOFFSETFROM:+0100
TZOFFSETTO:+0200
TZNAME:CEST
DTSTART:20250330T010000
END:DAYLIGHT
BEGIN:STANDARD
TZOFFSETFROM:+0200
TZOFFSETTO:+0100
TZNAME:CET
DTSTART:20251026T010000
END:STANDARD
BEGIN:DAYLIGHT
TZOFFSETFROM:+0100
TZOFFSETTO:+0200
TZNAME:CEST
DTSTART:20260329T010000
END:DAYLIGHT
BEGIN:STANDARD
TZOFFSETFROM:+0200
TZOFFSETTO:+0100
TZNAME:CET
DTSTART:20261025T010000
END:STANDARD
BEGIN:DAYLIGHT
TZOFFSETFROM:+0100
TZOFFSETTO:+0200
TZNAME:CEST
DTSTART:20270328T010000
END:DAYLIGHT
BEGIN:STANDARD
TZOFFSETFROM:+0200
TZOFFSETTO:+0100
TZNAME:CET
DTSTART:20271031T010000
END:STANDARD
END:VTIMEZONE
BEGIN:VEVENT
DTSTART;VALUE=DATE:20260618
DTEND;VALUE=DATE:20260619
DTSTAMP:20260421T231017
CREATED:20251215T155313Z
LAST-MODIFIED:20260106T130428Z
UID:80476-1781740800-1781827199@www.vc-magazin.de
SUMMARY:Hinterland of Things 2026
DESCRIPTION:In Zeiten des raschen Wandels und ständiger Herausforderungen ist eine vorausschauende Perspektive auf die Innovations- und Technologielandschaft Deutschlands unerlässlich. Genau aus diesem Grund trifft sich die europäische Tech- und Start-up-Szene am 18. Juni 2026 erneut mit wichtigen Akteuren der deutschen Wirtschaft in Bielefeld zur achten Ausgabe der Hinterland of Things Conference – ein Beweis dafür\, dass bahnbrechende Innovationen nicht nur in großen Metropolen entstehen. \nDas diesjährige Thema „and ACTION” spiegelt eine wichtige Botschaft wider: Deutschland hat kein Wissensproblem – es hat ein Umsetzungsproblem. Die Konferenz bringt die Macher\, Innovatoren\, Investoren und Entscheidungsträger zusammen\, die über Debatten hinausgehen und Maßnahmen ergreifen\, um die nächste Ära der industriellen und technologischen Transformation zu gestalten. \nDas Herzstück des B2B-Unternehmertums – aktiviert.\nSeit 2018 veranstaltet die Founders Foundation diesen einzigartigen Austausch\, bei dem Tech-Giganten\, führende Investoren\, Entscheidungsträger aus dem Mittelstand und Hidden Champions in verschiedenen Formaten zusammenkommen. Der Fokus liegt weiterhin auf neuen Technologien und disruptiven Innovationen. Im Jahr 2026 stehen Klimatechnologie\, Produktivität & KI\, Industrietechnologie und EdTech auf der Tagesordnung\, die in Podiumsdiskussionen\, Keynotes und Kamingesprächen mit mehr als 100 internationalen Top-Referenten beleuchtet werden. Exklusive Masterclasses\, die in Zusammenarbeit mit globalen Branchenführern entwickelt wurden\, vertiefen das Programm. \nRund 2.500 Besucher können sich außerdem auf eine lebendige Start-up-Ausstellung mit mehr als 80 der vielversprechendsten B2B-Tech-Start-ups freuen\, die innovative Lösungen und Innovationen entlang der gesamten Wertschöpfungskette präsentieren. Von Produktivität und KI bis hin zu Industrietechnologie erhalten die Teilnehmer einen umfassenden Überblick über die Technologien\, die die Zukunft der europäischen Industrie prägen. \nErfahren Sie hier mehr: https://hinterlandofthings.com/conference/. \n\nWir freuen uns\, im Jahr 2026 erneut als offizieller Medienpartner dabei zu sein! \nMit dem Code MEDIA25 jetzt 25% auf alle vier Hauptkategorien sparen (jeweils auf den Normalpreis)! \nJetzt Tickets sichern: https://hinterlandofthings.com/hinterland-conference/tickets/!
URL:https://www.vc-magazin.de/event/hinterland-of-things-2026/
LOCATION:Bielefeld\, Bielefeld\, Deutschland
END:VEVENT
BEGIN:VEVENT
DTSTART;VALUE=DATE:20260624
DTEND;VALUE=DATE:20260627
DTSTAMP:20260421T231017
CREATED:20260420T112034Z
LAST-MODIFIED:20260420T112035Z
UID:81872-1782259200-1782518399@www.vc-magazin.de
SUMMARY:We Make Future 2026
DESCRIPTION:International B2B Trade Fair and Festival on Innovation: AI\, Tech\, and Digital Marketing! WMF brings together the best of global innovation. A hub for Business\, Education\, Culture\, and Creativity that connects companies\, AI and digital agencies\, software houses\, startups & scale-ups\, institutions\, and investors from 90 countries. \nWith 70\,000 sqm of exhibition space\, over 700 exhibitors\, 14 Districts\, 2\,800 B2B meetings\, more than 100 events including Side Events dedicated to Business Matching and open innovation\, 90 Training Rooms\, Concerts\, Awards\, and much more. \nWithin the spaces of BolognaFiere\, WMF brings together the very best of global innovation. \nCompanies\, innovators\, and decision-makers meet artificial intelligence\, technology\, and digital tools to build the future. \nMore information here!
URL:https://www.vc-magazin.de/event/we-make-future-2026/
LOCATION:BolognaFiere\, Viale della Fiera\, 20\, Bologna\, 40128\, Italy
END:VEVENT
END:VCALENDAR