BEGIN:VCALENDAR
VERSION:2.0
PRODID:-//VC Magazin - ECPv6.15.15//NONSGML v1.0//EN
CALSCALE:GREGORIAN
METHOD:PUBLISH
X-WR-CALNAME:VC Magazin
X-ORIGINAL-URL:https://www.vc-magazin.de
X-WR-CALDESC:Veranstaltungen für VC Magazin
REFRESH-INTERVAL;VALUE=DURATION:PT1H
X-Robots-Tag:noindex
X-PUBLISHED-TTL:PT1H
BEGIN:VTIMEZONE
TZID:Europe/Berlin
BEGIN:DAYLIGHT
TZOFFSETFROM:+0100
TZOFFSETTO:+0200
TZNAME:CEST
DTSTART:20250330T010000
END:DAYLIGHT
BEGIN:STANDARD
TZOFFSETFROM:+0200
TZOFFSETTO:+0100
TZNAME:CET
DTSTART:20251026T010000
END:STANDARD
BEGIN:DAYLIGHT
TZOFFSETFROM:+0100
TZOFFSETTO:+0200
TZNAME:CEST
DTSTART:20260329T010000
END:DAYLIGHT
BEGIN:STANDARD
TZOFFSETFROM:+0200
TZOFFSETTO:+0100
TZNAME:CET
DTSTART:20261025T010000
END:STANDARD
BEGIN:DAYLIGHT
TZOFFSETFROM:+0100
TZOFFSETTO:+0200
TZNAME:CEST
DTSTART:20270328T010000
END:DAYLIGHT
BEGIN:STANDARD
TZOFFSETFROM:+0200
TZOFFSETTO:+0100
TZNAME:CET
DTSTART:20271031T010000
END:STANDARD
END:VTIMEZONE
BEGIN:VEVENT
DTSTART;TZID=Europe/Berlin:20260127T100000
DTEND;TZID=Europe/Berlin:20260127T110000
DTSTAMP:20260422T011703
CREATED:20260122T092519Z
LAST-MODIFIED:20260122T093653Z
UID:80815-1769508000-1769511600@www.vc-magazin.de
SUMMARY:eIDAS 2.0. - Technische Umsetzung und Sicherheit der European Business Wallet
DESCRIPTION:Mit eIDAS 2 entsteht ein neues europäisches Identitätsökosystem\, das zentrale Prozesse in Wirtschaft und Verwaltung nachhaltig verändern wird. PwC und Spherity führen Sie durch die vierteilige Webcast-Serie\, die die regulatorischen Grundlagen\, technologischen Entwicklungen und geschäftlichen Potenziale von eIDAS 2 strukturiert darlegt. \nDer zweite Teil der eIDAS 2.0 Webcast-Reihe widmet sich dem Thema „Technische Umsetzung und Sicherheit der European Business Wallet”. Im Mittelpunkt steht die Frage\, wie Unternehmen sich heute strategisch aufstellen können\, um regulatorische Anforderungen zu erfüllen und gleichzeitig digitale Souveränität\, Effizienz und Sicherheit zu stärken. \nAgenda des Webcasts\n\nMarkt und Regularien\nWallets in der Praxis\nSicherheit und Vertrauen im eIDAS 2.0 Kontext\nAnwendungsfälle aus der Praxis\nLive Q&A mit Experten\n\n\nDie Teilnahme ist kostenlos. Eine Anmeldung auf der Webseite bei PwC Deutschland ist erforderlich. Link zur Anmeldung: https://www.pwc-events.com/EUDI-Wallet-Webcast-Reihe-2!
URL:https://www.vc-magazin.de/event/webinar-eidas-2-2026/
LOCATION:Online\, Deutschland
ATTACH;FMTTYPE=image/png:https://www.vc-magazin.de/wp-content/uploads/2026/01/EUDI-Wallet-Webcast-Reihe-2-PwC-Spherity-black-colored-1.png
END:VEVENT
BEGIN:VEVENT
DTSTART;TZID=Europe/Berlin:20260128T090000
DTEND;TZID=Europe/Berlin:20260128T100000
DTSTAMP:20260422T011703
CREATED:20260120T152620Z
LAST-MODIFIED:20260120T152621Z
UID:80776-1769590800-1769594400@www.vc-magazin.de
SUMMARY:Blockchain trifft Portfolio: Wie digitale Assets neue Anlageklassen schaffen
DESCRIPTION:Digitale Assets sind weit mehr als Kryptowährungen: Sie eröffnen neue Möglichkeiten\, Vermögenswerte zu strukturieren und institutionelle Portfolios zu diversifizieren. Insbesondere digitale Wertpapiere auf Blockchain-Basis erlauben es\, Anlageklassen wie Immobilien\, Private Debt oder Unternehmensbeteiligungen effizienter\, transparenter und investierbar zu machen. \nIm Webinar am 28. Januar 2026 beleuchten Dr. Robert Oppenheim (Osborne Clarke) und Robert Jeggle (AQUATY) die Chancen und Herausforderungen dieser Entwicklung aus rechtlicher und wirtschaftlicher Perspektive! \nFreuen Sie sich auf einen kompakten Überblick mit Praxisbezug\, in dem rechtlicher Rahmen und wirtschaftliche Umsetzung zusammen gedacht werden – und Sie konkrete Ansatzpunkte für Ihre eigene Strategie mitnehmen können. \nMehr Informationen und die Registrierung finden Sie hier: https://www.osborneclarke.com/de/events/blockchain-trifft-portfolio-wie-digitale-assets-neue-anlageklassen-schaffen!
URL:https://www.vc-magazin.de/event/webinar-osborne-clarke-blockchain-trifft-portfolio-2026/
LOCATION:Online\, Deutschland
END:VEVENT
END:VCALENDAR