BEGIN:VCALENDAR
VERSION:2.0
PRODID:-//VC Magazin - ECPv6.15.15//NONSGML v1.0//EN
CALSCALE:GREGORIAN
METHOD:PUBLISH
X-ORIGINAL-URL:https://www.vc-magazin.de
X-WR-CALDESC:Veranstaltungen für VC Magazin
REFRESH-INTERVAL;VALUE=DURATION:PT1H
X-Robots-Tag:noindex
X-PUBLISHED-TTL:PT1H
BEGIN:VTIMEZONE
TZID:Europe/Berlin
BEGIN:DAYLIGHT
TZOFFSETFROM:+0100
TZOFFSETTO:+0200
TZNAME:CEST
DTSTART:20220327T010000
END:DAYLIGHT
BEGIN:STANDARD
TZOFFSETFROM:+0200
TZOFFSETTO:+0100
TZNAME:CET
DTSTART:20221030T010000
END:STANDARD
BEGIN:DAYLIGHT
TZOFFSETFROM:+0100
TZOFFSETTO:+0200
TZNAME:CEST
DTSTART:20230326T010000
END:DAYLIGHT
BEGIN:STANDARD
TZOFFSETFROM:+0200
TZOFFSETTO:+0100
TZNAME:CET
DTSTART:20231029T010000
END:STANDARD
BEGIN:DAYLIGHT
TZOFFSETFROM:+0100
TZOFFSETTO:+0200
TZNAME:CEST
DTSTART:20240331T010000
END:DAYLIGHT
BEGIN:STANDARD
TZOFFSETFROM:+0200
TZOFFSETTO:+0100
TZNAME:CET
DTSTART:20241027T010000
END:STANDARD
END:VTIMEZONE
BEGIN:VEVENT
DTSTART;VALUE=DATE:20230531
DTEND;VALUE=DATE:20230602
DTSTAMP:20260421T063739
CREATED:20230111T120608Z
LAST-MODIFIED:20230526T120349Z
UID:70570-1685491200-1685663999@www.vc-magazin.de
SUMMARY:0100 Conference DACH
DESCRIPTION:Bildnachweis: GATA. \nFor the third annual this is the exclusive investors‘ section of Vienna UP’23\, the biggest decentralized community-driven festival on innovation and entrepreneurship in the heart of Europe\, including 100 events\, gathering participants from 60+ countries and generating 5.000+ one-on-one meetings. \nMeet and build relationships with senior level General and Limited Partners from the VC & PE industry. Network with fund managers\, investors as well as leading service providers and other industry professionals from the DACH region. \nWhy LPs attend: \n\nLP-tailored content focused on the hottest LP issues\, including the latest trends and insights from leading experts\nSelected LPs are invited to the VIP dinner an evening before the conference\nExclusive networking with other LPs during the LP breakfast – invite only & behind the closed door event\nOpportunity to network with best performing GPs as well as with up-and-coming GPs within and beyond the region. Pre-arranged meetings on demand\nFree access (subject to verification)\n\nAccess valuable information and shared knowledge from senior-level decision-makers. During multiple panel discussions\, keynote presentations\, workshop and the world-class speakers will share on & off stage their experience and insights. \nSpeakers\, sponsors and selected attendees will have the opportunity to join a VIP Dinner the evening before the conference to network in a more informal atmosphere. \nMore information and registration here. \nDie ESG-bezogenen Themen werden im Mittelpunkt der zahlreichen Themen stehen\, die auf\nder Konferenz behandelt werden. \nDie vollständige Tagesordnung finden Sie hier. \nZu den Rednern und Diskussionsteilnehmern gehören Führungskräfte der wichtigsten Fonds\nder Branche\, wie BC Partners\, BlackRock Private Equity Partners\, DN Capital\, KfW Capital\,\nPicus Capital\, Pollen Street Capital\, Schroders Capital\, SpeedInvest\, Unigestion und viele\nandere.
URL:https://www.vc-magazin.de/event/0100-conference-dach-2023/
LOCATION:Hotel Savoyen Vienna\, Rennweg 16\, Vienna\, 1030 \, Österreich
END:VEVENT
END:VCALENDAR