BEGIN:VCALENDAR
VERSION:2.0
PRODID:-//VC Magazin - ECPv6.15.15//NONSGML v1.0//EN
CALSCALE:GREGORIAN
METHOD:PUBLISH
X-WR-CALNAME:VC Magazin
X-ORIGINAL-URL:https://www.vc-magazin.de
X-WR-CALDESC:Veranstaltungen für VC Magazin
REFRESH-INTERVAL;VALUE=DURATION:PT1H
X-Robots-Tag:noindex
X-PUBLISHED-TTL:PT1H
BEGIN:VTIMEZONE
TZID:Europe/Berlin
BEGIN:DAYLIGHT
TZOFFSETFROM:+0100
TZOFFSETTO:+0200
TZNAME:CEST
DTSTART:20230326T010000
END:DAYLIGHT
BEGIN:STANDARD
TZOFFSETFROM:+0200
TZOFFSETTO:+0100
TZNAME:CET
DTSTART:20231029T010000
END:STANDARD
BEGIN:DAYLIGHT
TZOFFSETFROM:+0100
TZOFFSETTO:+0200
TZNAME:CEST
DTSTART:20240331T010000
END:DAYLIGHT
BEGIN:STANDARD
TZOFFSETFROM:+0200
TZOFFSETTO:+0100
TZNAME:CET
DTSTART:20241027T010000
END:STANDARD
BEGIN:DAYLIGHT
TZOFFSETFROM:+0100
TZOFFSETTO:+0200
TZNAME:CEST
DTSTART:20250330T010000
END:DAYLIGHT
BEGIN:STANDARD
TZOFFSETFROM:+0200
TZOFFSETTO:+0100
TZNAME:CET
DTSTART:20251026T010000
END:STANDARD
END:VTIMEZONE
BEGIN:VEVENT
DTSTART;VALUE=DATE:20241106
DTEND;VALUE=DATE:20241107
DTSTAMP:20260420T032640
CREATED:20241016T112748Z
LAST-MODIFIED:20241016T112957Z
UID:75754-1730851200-1730937599@www.vc-magazin.de
SUMMARY:invest.austria conference
DESCRIPTION:Bildnachweis: GATA. \n💥 Join us at the invest.austria Conference 2024 💥 \nMark your calendars for November 6\, 2024! The invest.austria conference is Austria’s premier event for Venture Capital\, Private Equity and Angel-Investing . We are thrilled to be part of this inspiring gathering of over 400 investors\, entrepreneurs\, and ecosystem representatives from Austria\, the DACH region\, and around the globe. \nWe are proud to support this event as a partner and can’t wait to see you there! Discover the latest insights on the future of investing\, emerging trends\, the role of private investors in PE and VC and don’t miss this opportunity to connect with visionary entrepreneurs and explore promising startups! \nIf you’re interested in joining us there use the code: ia24-VCM-30 upon registration and get 30% off the ticket price! \n📅 When? 6 November 2024 \n📍 Where? Apothekertrakt Schönbrunn\, Vienna \nMore information here 👉 https://conference.invest-austria.com/ \nThe event is organized by invest.austria – the leading network for investors in the Austrian pre-IPO capital market and one of the most important cornerstones of the domestic financing ecosystem.
URL:https://www.vc-magazin.de/event/invest-austria-conference-2024/
LOCATION:Wien\, Wien\, Österreich
ATTACH;FMTTYPE=image/png:https://www.vc-magazin.de/wp-content/uploads/2024/10/24_iaconference.png
END:VEVENT
END:VCALENDAR